BEGIN:VCALENDAR
VERSION:2.0
PRODID:-//Tillamook Area Chamber of Commerce - ECPv6.15.20//NONSGML v1.0//EN
CALSCALE:GREGORIAN
METHOD:PUBLISH
X-WR-CALNAME:Tillamook Area Chamber of Commerce
X-ORIGINAL-URL:https://tillamookchamber.org
X-WR-CALDESC:Events for Tillamook Area Chamber of Commerce
REFRESH-INTERVAL;VALUE=DURATION:PT1H
X-Robots-Tag:noindex
X-PUBLISHED-TTL:PT1H
BEGIN:VTIMEZONE
TZID:America/Los_Angeles
BEGIN:DAYLIGHT
TZOFFSETFROM:-0800
TZOFFSETTO:-0700
TZNAME:PDT
DTSTART:20240310T100000
END:DAYLIGHT
BEGIN:STANDARD
TZOFFSETFROM:-0700
TZOFFSETTO:-0800
TZNAME:PST
DTSTART:20241103T090000
END:STANDARD
BEGIN:DAYLIGHT
TZOFFSETFROM:-0800
TZOFFSETTO:-0700
TZNAME:PDT
DTSTART:20250309T100000
END:DAYLIGHT
BEGIN:STANDARD
TZOFFSETFROM:-0700
TZOFFSETTO:-0800
TZNAME:PST
DTSTART:20251102T090000
END:STANDARD
BEGIN:DAYLIGHT
TZOFFSETFROM:-0800
TZOFFSETTO:-0700
TZNAME:PDT
DTSTART:20260308T100000
END:DAYLIGHT
BEGIN:STANDARD
TZOFFSETFROM:-0700
TZOFFSETTO:-0800
TZNAME:PST
DTSTART:20261101T090000
END:STANDARD
END:VTIMEZONE
BEGIN:VEVENT
DTSTART;TZID=America/Los_Angeles:20250107T100000
DTEND;TZID=America/Los_Angeles:20250107T150000
DTSTAMP:20260423T223254
CREATED:20241023T224303Z
LAST-MODIFIED:20241023T224303Z
UID:10016542-1736244000-1736262000@tillamookchamber.org
SUMMARY:Tuesday Stitchers
DESCRIPTION:Come and be a part of a community of people who love to make things for others\, and in turn make friends within the group. All levels are welcome. \nJoin us at the Kiawanda Community Center on Tuesdays from 10 AM to 3 PM in the Great Hall. \nFirst Monday every month from 4 to 9 PM. \nCall (503) 965-7900 for more details | $6 admission
URL:https://tillamookchamber.org/event/tuesday-stitchers/2025-01-07/
LOCATION:Kiawanda Community Center\, 34600 Cape Kiwanda Dr\, Pacific City\, OR 97135\, OR\, United States
CATEGORIES:Classes and Workshops,Community
ATTACH;FMTTYPE=image/png:https://tillamookchamber.org/wp-content/uploads/2024/10/Tuesday-Stitchers-Group-Flyer.png
END:VEVENT
BEGIN:VEVENT
DTSTART;TZID=America/Los_Angeles:20250109T140000
DTEND;TZID=America/Los_Angeles:20250109T150000
DTSTAMP:20260423T223254
CREATED:20241226T210346Z
LAST-MODIFIED:20241226T210346Z
UID:10017456-1736431200-1736434800@tillamookchamber.org
SUMMARY:Invisible Losses with Helen Beaman at Tillamook Library
DESCRIPTION:Grief doesn’t always have to involve losing someone in your life. As we age\, we are sometimes forced to consider giving up things or activities we enjoy; such as jogging\, pinochle\, volunteer activities\, or traveling. This can lead to a rather profound sense of loss. Join an expert as we discuss the types of “invisible losses\,” and learn how to cope\, heal\, and grieve from these types of disenfranchised losses.
URL:https://tillamookchamber.org/event/invisible-losses-with-helen-beaman-at-tillamook-library/
LOCATION:Tillamook County Library\, 1716 3rd Street Tillamook Oregon 97141
CATEGORIES:Classes and Workshops,Community
END:VEVENT
BEGIN:VEVENT
DTSTART;TZID=America/Los_Angeles:20250111T130000
DTEND;TZID=America/Los_Angeles:20250111T150000
DTSTAMP:20260423T223254
CREATED:20241122T220644Z
LAST-MODIFIED:20241122T220644Z
UID:10017096-1736600400-1736607600@tillamookchamber.org
SUMMARY:Build A Castle For Your Cat
DESCRIPTION:All ages are invited to create cardboard castles for felines!
URL:https://tillamookchamber.org/event/build-a-castle-for-your-cat/
LOCATION:Tillamook County Library\, 1716 3rd Street Tillamook Oregon 97141
CATEGORIES:Classes and Workshops,Community
ATTACH;FMTTYPE=image/png:https://tillamookchamber.org/wp-content/uploads/2024/11/Cardboard-Cat-Houses-011325.png
END:VEVENT
BEGIN:VEVENT
DTSTART;TZID=America/Los_Angeles:20250114T100000
DTEND;TZID=America/Los_Angeles:20250114T150000
DTSTAMP:20260423T223254
CREATED:20241023T224303Z
LAST-MODIFIED:20241023T224303Z
UID:10016543-1736848800-1736866800@tillamookchamber.org
SUMMARY:Tuesday Stitchers
DESCRIPTION:Come and be a part of a community of people who love to make things for others\, and in turn make friends within the group. All levels are welcome. \nJoin us at the Kiawanda Community Center on Tuesdays from 10 AM to 3 PM in the Great Hall. \nFirst Monday every month from 4 to 9 PM. \nCall (503) 965-7900 for more details | $6 admission
URL:https://tillamookchamber.org/event/tuesday-stitchers/2025-01-14/
LOCATION:Kiawanda Community Center\, 34600 Cape Kiwanda Dr\, Pacific City\, OR 97135\, OR\, United States
CATEGORIES:Classes and Workshops,Community
ATTACH;FMTTYPE=image/png:https://tillamookchamber.org/wp-content/uploads/2024/10/Tuesday-Stitchers-Group-Flyer.png
END:VEVENT
BEGIN:VEVENT
DTSTART;TZID=America/Los_Angeles:20250115T170000
DTEND;TZID=America/Los_Angeles:20250115T180000
DTSTAMP:20260423T223254
CREATED:20241209T175837Z
LAST-MODIFIED:20241209T175837Z
UID:10017404-1736960400-1736964000@tillamookchamber.org
SUMMARY:Adult Coloring Hour at Pacific City Library
DESCRIPTION:Coloring can increase focus\, relieve stress and boost creativity. Come to the South Tillamook County branch library in Pacific City every third Wednesday of the month for an hour of adult coloring time. 5pm-6pm.
URL:https://tillamookchamber.org/event/adult-coloring-hour-at-pacific-city-library/2025-01-15/
LOCATION:Pacific City Library\, 6200 Camp St Pacific City\, OR
CATEGORIES:Classes and Workshops,Community
ATTACH;FMTTYPE=image/png:https://tillamookchamber.org/wp-content/uploads/2024/12/pccolor.png
END:VEVENT
BEGIN:VEVENT
DTSTART;TZID=America/Los_Angeles:20250119T130000
DTEND;TZID=America/Los_Angeles:20250119T150000
DTSTAMP:20260423T223254
CREATED:20241112T165109Z
LAST-MODIFIED:20241112T165109Z
UID:10016818-1737291600-1737298800@tillamookchamber.org
SUMMARY:Ecstatic Dance PC
DESCRIPTION:The third Sunday every month we dance as we are: no phones\, no shoes\, no words. \n-family friendly\, all ages welcome \n-kids under 12 free \n-suggested donation $10-$20 \n(No one will be turned away for lack of funds) \n-wear comfy clothing\, bring water bottle\, and your AUTHENTIC SELF. (yoga mat optional)
URL:https://tillamookchamber.org/event/ecstatic-dance-pc/2025-01-19/
LOCATION:Kiawanda Community Center\, 34600 Cape Kiwanda Dr\, Pacific City\, OR 97135\, OR\, United States
CATEGORIES:Classes and Workshops,Community
ATTACH;FMTTYPE=image/png:https://tillamookchamber.org/wp-content/uploads/2024/11/Ecstatic-Dance-PC.png
END:VEVENT
BEGIN:VEVENT
DTSTART;TZID=America/Los_Angeles:20250121T100000
DTEND;TZID=America/Los_Angeles:20250121T150000
DTSTAMP:20260423T223254
CREATED:20241023T224303Z
LAST-MODIFIED:20241023T224303Z
UID:10016544-1737453600-1737471600@tillamookchamber.org
SUMMARY:Tuesday Stitchers
DESCRIPTION:Come and be a part of a community of people who love to make things for others\, and in turn make friends within the group. All levels are welcome. \nJoin us at the Kiawanda Community Center on Tuesdays from 10 AM to 3 PM in the Great Hall. \nFirst Monday every month from 4 to 9 PM. \nCall (503) 965-7900 for more details | $6 admission
URL:https://tillamookchamber.org/event/tuesday-stitchers/2025-01-21/
LOCATION:Kiawanda Community Center\, 34600 Cape Kiwanda Dr\, Pacific City\, OR 97135\, OR\, United States
CATEGORIES:Classes and Workshops,Community
ATTACH;FMTTYPE=image/png:https://tillamookchamber.org/wp-content/uploads/2024/10/Tuesday-Stitchers-Group-Flyer.png
END:VEVENT
BEGIN:VEVENT
DTSTART;TZID=America/Los_Angeles:20250128T100000
DTEND;TZID=America/Los_Angeles:20250128T150000
DTSTAMP:20260423T223254
CREATED:20241023T224303Z
LAST-MODIFIED:20241023T224303Z
UID:10016545-1738058400-1738076400@tillamookchamber.org
SUMMARY:Tuesday Stitchers
DESCRIPTION:Come and be a part of a community of people who love to make things for others\, and in turn make friends within the group. All levels are welcome. \nJoin us at the Kiawanda Community Center on Tuesdays from 10 AM to 3 PM in the Great Hall. \nFirst Monday every month from 4 to 9 PM. \nCall (503) 965-7900 for more details | $6 admission
URL:https://tillamookchamber.org/event/tuesday-stitchers/2025-01-28/
LOCATION:Kiawanda Community Center\, 34600 Cape Kiwanda Dr\, Pacific City\, OR 97135\, OR\, United States
CATEGORIES:Classes and Workshops,Community
ATTACH;FMTTYPE=image/png:https://tillamookchamber.org/wp-content/uploads/2024/10/Tuesday-Stitchers-Group-Flyer.png
END:VEVENT
BEGIN:VEVENT
DTSTART;TZID=America/Los_Angeles:20250129T180000
DTEND;TZID=America/Los_Angeles:20250129T200000
DTSTAMP:20260423T223254
CREATED:20250115T191635Z
LAST-MODIFIED:20250115T191635Z
UID:10017763-1738173600-1738180800@tillamookchamber.org
SUMMARY:Brush & Brew: Cozy Mugs in Pelican Brewing Pacific City
DESCRIPTION:Hosted by Tara Spires of Mud & Craft\, join us at Pelican Brewing Company in Pacific City for a creative and cozy experience! Paint and decorate your very own handmade mug while sipping on your favorite brews. Each participant will receive a pre-handmade mug to customize and make uniquely theirs. Your mug will be fired and ready for pickup in Pacific City within a week. Can’t make it back? No worries! We can ship your mug directly to you for just $6. Price is $55\, A $10 gift card to the Pelican is included. Cheers to art\, craft\, and great beer! \nsign up at https://lessonsandclasses.as.me/
URL:https://tillamookchamber.org/event/brush-brew-cozy-mugs-in-pelican-brewing-pacific-city/
LOCATION:Pelican Brewing Pacific City\, 33180 Cape Kiwanda Dr\, Pacific City\, OR 97315
CATEGORIES:Classes and Workshops,Community
ATTACH;FMTTYPE=image/jpeg:https://tillamookchamber.org/wp-content/uploads/2025/01/IMG_4378-2.jpg
END:VEVENT
END:VCALENDAR