BEGIN:VCALENDAR
VERSION:2.0
PRODID:-//Tillamook Area Chamber of Commerce - ECPv6.15.20//NONSGML v1.0//EN
CALSCALE:GREGORIAN
METHOD:PUBLISH
X-WR-CALNAME:Tillamook Area Chamber of Commerce
X-ORIGINAL-URL:https://tillamookchamber.org
X-WR-CALDESC:Events for Tillamook Area Chamber of Commerce
REFRESH-INTERVAL;VALUE=DURATION:PT1H
X-Robots-Tag:noindex
X-PUBLISHED-TTL:PT1H
BEGIN:VTIMEZONE
TZID:America/Los_Angeles
BEGIN:DAYLIGHT
TZOFFSETFROM:-0800
TZOFFSETTO:-0700
TZNAME:PDT
DTSTART:20240310T100000
END:DAYLIGHT
BEGIN:STANDARD
TZOFFSETFROM:-0700
TZOFFSETTO:-0800
TZNAME:PST
DTSTART:20241103T090000
END:STANDARD
BEGIN:DAYLIGHT
TZOFFSETFROM:-0800
TZOFFSETTO:-0700
TZNAME:PDT
DTSTART:20250309T100000
END:DAYLIGHT
BEGIN:STANDARD
TZOFFSETFROM:-0700
TZOFFSETTO:-0800
TZNAME:PST
DTSTART:20251102T090000
END:STANDARD
BEGIN:DAYLIGHT
TZOFFSETFROM:-0800
TZOFFSETTO:-0700
TZNAME:PDT
DTSTART:20260308T100000
END:DAYLIGHT
BEGIN:STANDARD
TZOFFSETFROM:-0700
TZOFFSETTO:-0800
TZNAME:PST
DTSTART:20261101T090000
END:STANDARD
END:VTIMEZONE
BEGIN:VEVENT
DTSTART;TZID=America/Los_Angeles:20250604T120000
DTEND;TZID=America/Los_Angeles:20250604T130000
DTSTAMP:20260422T222214
CREATED:20250529T181803Z
LAST-MODIFIED:20250529T181803Z
UID:10021938-1749038400-1749042000@tillamookchamber.org
SUMMARY:New laws and workplace protections: What employers need to know
DESCRIPTION:What should employers know when a leave event qualifies for protection under Oregon Paid Leave\, OFLA and FMLA? When can an employer require – or not require – a valid driver’s license on a job application? What obligations do employers have to inform employees when a federal audit is imminent? \nJoin BOLI learning and development specialist Charlie Burr for a discussion based on recent employment law updates\, including emerging enforcement trends and new laws affecting Oregon workplaces. This interactive session will help your organization manage risk and avoid potential BOLI complaints. \nCharlie Burr works as a learning and development specialist for the agency’s Employer Assistance Program\, where he helps businesses large and small navigate frequently complex workplace requirements. Previously\, Burr served as BOLI’s public information officer for five years\, providing communications support for the agency’s legislative agenda and enforcement initiatives. Burr lives in northeast Portland with his wife Libby\, daughters Marigny and Shelby\, and dog Diamond. \nCost:  $25 for SHRM members; $30 for guests. Lunch provided. \nRegister Here: New laws and workplace protections: What employers need to know Tickets\, Wed\, Jun 4\, 2025 at 12:00 PM | Eventbrite
URL:https://tillamookchamber.org/event/new-laws-and-workplace-protections-what-employers-need-to-know/
LOCATION:Lovell Room\, Fort George Brewery\, 1483 Duane St\, Astoria\, OR 97103
CATEGORIES:Business,Classes and Workshops,Education
ATTACH;FMTTYPE=image/jpeg:https://tillamookchamber.org/wp-content/uploads/2025/05/Burr-headshot.jpg
END:VEVENT
BEGIN:VEVENT
DTSTART;TZID=America/Los_Angeles:20250617T080000
DTEND;TZID=America/Los_Angeles:20250617T090000
DTSTAMP:20260422T222214
CREATED:20210504T163503Z
LAST-MODIFIED:20221109T180200Z
UID:10019178-1750147200-1750150800@tillamookchamber.org
SUMMARY:Mornings on Main Street
DESCRIPTION:Join the Chamber for our monthly neighbor chat\, an informal coffee and discussion of things happening around town. Conversations range from events to new business opening and who is looking for help. This is a great opportunity to get in touch with our business and retail community\, as well as many of the non-profits\, government officials\, service groups and community leaders. Conversations are always casual and fun\, and there is always plenty of coffee and some breakfast treats. Doors open at 8 a.m.\, and typically come to an end by 9 a.m. Feel free to swing in at any time within the hour. We would be happy to see you pop in. \n\nMornings on Main Street is proudly sponsored by the Tillamook branch of Columbia Bank.
URL:https://tillamookchamber.org/event/mornings-on-main-street-7/2025-06-17/
LOCATION:Tillamook Area Chamber of Commerce\, 208 Main Ave.\, Tillamook\, OR\, 97141\, United States
CATEGORIES:Business,Community,Public Meetings
ATTACH;FMTTYPE=image/png:https://tillamookchamber.org/wp-content/uploads/2021/05/MoMS-1.png
END:VEVENT
BEGIN:VEVENT
DTSTART;TZID=America/Los_Angeles:20250618T133000
DTEND;TZID=America/Los_Angeles:20250618T150000
DTSTAMP:20260422T222214
CREATED:20250228T180905Z
LAST-MODIFIED:20250917T173117Z
UID:10018307-1750253400-1750258800@tillamookchamber.org
SUMMARY:American Legion Tillamook Post 47
DESCRIPTION:Monthly meetings will be the third Wednesday of each month at 1:30 pm at the Tillamook Eagles Lodge.  All active duty honorably discharged veterans of all branches including the Coast Guard are eligible to join and help us grow this 103 year old American Legion post.  Next year we are launching to programs for our County youth: \nhttps://orlegion.org/programs/law-enforcement-career-camp/ \nhttps://www.legion.org/shooting
URL:https://tillamookchamber.org/event/american-legion-tillamook-post-47-2-2/2025-06-18/
LOCATION:Tillamook Eagles Lodge\, 209 Stillwell Ave.
CATEGORIES:Business
ATTACH;FMTTYPE=image/jpeg:https://tillamookchamber.org/wp-content/uploads/2023/10/IMG_1308.jpeg
ORGANIZER;CN="Larry Emery Post Adjutant":MAILTO:larry@tillamookpost47.com
END:VEVENT
END:VCALENDAR