BEGIN:VCALENDAR
VERSION:2.0
PRODID:-//Tillamook Area Chamber of Commerce - ECPv6.15.20//NONSGML v1.0//EN
CALSCALE:GREGORIAN
METHOD:PUBLISH
X-ORIGINAL-URL:https://tillamookchamber.org
X-WR-CALDESC:Events for Tillamook Area Chamber of Commerce
REFRESH-INTERVAL;VALUE=DURATION:PT1H
X-Robots-Tag:noindex
X-PUBLISHED-TTL:PT1H
BEGIN:VTIMEZONE
TZID:America/Los_Angeles
BEGIN:DAYLIGHT
TZOFFSETFROM:-0800
TZOFFSETTO:-0700
TZNAME:PDT
DTSTART:20240310T100000
END:DAYLIGHT
BEGIN:STANDARD
TZOFFSETFROM:-0700
TZOFFSETTO:-0800
TZNAME:PST
DTSTART:20241103T090000
END:STANDARD
BEGIN:DAYLIGHT
TZOFFSETFROM:-0800
TZOFFSETTO:-0700
TZNAME:PDT
DTSTART:20250309T100000
END:DAYLIGHT
BEGIN:STANDARD
TZOFFSETFROM:-0700
TZOFFSETTO:-0800
TZNAME:PST
DTSTART:20251102T090000
END:STANDARD
BEGIN:DAYLIGHT
TZOFFSETFROM:-0800
TZOFFSETTO:-0700
TZNAME:PDT
DTSTART:20260308T100000
END:DAYLIGHT
BEGIN:STANDARD
TZOFFSETFROM:-0700
TZOFFSETTO:-0800
TZNAME:PST
DTSTART:20261101T090000
END:STANDARD
END:VTIMEZONE
BEGIN:VEVENT
DTSTART;TZID=America/Los_Angeles:20251227T190000
DTEND;TZID=America/Los_Angeles:20251227T210000
DTSTAMP:20260423T002505
CREATED:20250523T204532Z
LAST-MODIFIED:20250529T195335Z
UID:10021970-1766862000-1766869200@tillamookchamber.org
SUMMARY:Live Music!
DESCRIPTION:Live music every Saturday from 7–9pm in The Schooner Lounge—because your weekend deserves a soundtrack. \nKick back to the sounds of local musicians\, stay for the crave-worthy eats\, craft cocktails\, cold beers\, and our fabulous crew who always bring the good vibes. \nCurious who’s playing? Check out our lineup of Oregon-grown talent on our website!
URL:https://tillamookchamber.org/event/live-music/2025-12-27/
LOCATION:The Schooner Restaurant & Lounge\, 2065 Boat Basin Rd
CATEGORIES:Arts and Culture,Live Music
ATTACH;FMTTYPE=image/jpeg:https://tillamookchamber.org/wp-content/uploads/2025/05/Schooner-music-scaled.jpeg
END:VEVENT
BEGIN:VEVENT
DTSTART;TZID=America/Los_Angeles:20251221T180000
DTEND;TZID=America/Los_Angeles:20251221T203000
DTSTAMP:20260423T002505
CREATED:20251202T002729Z
LAST-MODIFIED:20251202T002746Z
UID:10028570-1766340000-1766349000@tillamookchamber.org
SUMMARY:Blessing Chimanga - African Dance
DESCRIPTION:Unique opportunity to enjoy live music and dancing at the Bay City Arts Center! Doors open at 6\, music begins at 6:30! Tickets are $20 and can be purchased online on the Bay City Arts Center website or at the door!
URL:https://tillamookchamber.org/event/blessing-chimanga-african-dance/
CATEGORIES:Arts and Culture,Family Fun,Live Music
ATTACH;FMTTYPE=image/png:https://tillamookchamber.org/wp-content/uploads/2025/12/Blessings.png
END:VEVENT
BEGIN:VEVENT
DTSTART;TZID=America/Los_Angeles:20251220T190000
DTEND;TZID=America/Los_Angeles:20251220T210000
DTSTAMP:20260423T002505
CREATED:20250523T204532Z
LAST-MODIFIED:20250529T195335Z
UID:10021969-1766257200-1766264400@tillamookchamber.org
SUMMARY:Live Music!
DESCRIPTION:Live music every Saturday from 7–9pm in The Schooner Lounge—because your weekend deserves a soundtrack. \nKick back to the sounds of local musicians\, stay for the crave-worthy eats\, craft cocktails\, cold beers\, and our fabulous crew who always bring the good vibes. \nCurious who’s playing? Check out our lineup of Oregon-grown talent on our website!
URL:https://tillamookchamber.org/event/live-music/2025-12-20/
LOCATION:The Schooner Restaurant & Lounge\, 2065 Boat Basin Rd
CATEGORIES:Arts and Culture,Live Music
ATTACH;FMTTYPE=image/jpeg:https://tillamookchamber.org/wp-content/uploads/2025/05/Schooner-music-scaled.jpeg
END:VEVENT
BEGIN:VEVENT
DTSTART;TZID=America/Los_Angeles:20251213T190000
DTEND;TZID=America/Los_Angeles:20251213T210000
DTSTAMP:20260423T002505
CREATED:20250523T204532Z
LAST-MODIFIED:20250529T195335Z
UID:10021968-1765652400-1765659600@tillamookchamber.org
SUMMARY:Live Music!
DESCRIPTION:Live music every Saturday from 7–9pm in The Schooner Lounge—because your weekend deserves a soundtrack. \nKick back to the sounds of local musicians\, stay for the crave-worthy eats\, craft cocktails\, cold beers\, and our fabulous crew who always bring the good vibes. \nCurious who’s playing? Check out our lineup of Oregon-grown talent on our website!
URL:https://tillamookchamber.org/event/live-music/2025-12-13/
LOCATION:The Schooner Restaurant & Lounge\, 2065 Boat Basin Rd
CATEGORIES:Arts and Culture,Live Music
ATTACH;FMTTYPE=image/jpeg:https://tillamookchamber.org/wp-content/uploads/2025/05/Schooner-music-scaled.jpeg
END:VEVENT
BEGIN:VEVENT
DTSTART;TZID=America/Los_Angeles:20251206T190000
DTEND;TZID=America/Los_Angeles:20251206T210000
DTSTAMP:20260423T002505
CREATED:20250523T204532Z
LAST-MODIFIED:20250529T195335Z
UID:10021967-1765047600-1765054800@tillamookchamber.org
SUMMARY:Live Music!
DESCRIPTION:Live music every Saturday from 7–9pm in The Schooner Lounge—because your weekend deserves a soundtrack. \nKick back to the sounds of local musicians\, stay for the crave-worthy eats\, craft cocktails\, cold beers\, and our fabulous crew who always bring the good vibes. \nCurious who’s playing? Check out our lineup of Oregon-grown talent on our website!
URL:https://tillamookchamber.org/event/live-music/2025-12-06/
LOCATION:The Schooner Restaurant & Lounge\, 2065 Boat Basin Rd
CATEGORIES:Arts and Culture,Live Music
ATTACH;FMTTYPE=image/jpeg:https://tillamookchamber.org/wp-content/uploads/2025/05/Schooner-music-scaled.jpeg
END:VEVENT
BEGIN:VEVENT
DTSTART;TZID=America/Los_Angeles:20251206T173000
DTEND;TZID=America/Los_Angeles:20251206T210000
DTSTAMP:20260423T002506
CREATED:20251202T002432Z
LAST-MODIFIED:20251202T002432Z
UID:10028569-1765042200-1765054800@tillamookchamber.org
SUMMARY:Lasagnathon - Bay City Arts Center
DESCRIPTION:Come celebrate 25 years with cheesy lasagna goodness! Join us for an evening celebrating this amazing community resource! \nTickets can be purchased here: https://checkout.square.site/merchant/K5E1YN79PP9ZX/checkout/RZ3JHCLVL7SIBEMIYHQ5BPBZ?src=webqr \nDoors open at 5:30\, dinner is at 6
URL:https://tillamookchamber.org/event/lasagnathon-bay-city-arts-center/
CATEGORIES:Arts and Culture,Community,Family Fun
ATTACH;FMTTYPE=image/png:https://tillamookchamber.org/wp-content/uploads/2025/12/Lasagnathon.png
END:VEVENT
BEGIN:VEVENT
DTSTART;TZID=America/Los_Angeles:20251205T120000
DTEND;TZID=America/Los_Angeles:20251205T130000
DTSTAMP:20260423T002506
CREATED:20251021T231544Z
LAST-MODIFIED:20251021T231544Z
UID:10026233-1764936000-1764939600@tillamookchamber.org
SUMMARY:Tillamook County Pioneer Museum Fireside Chat
DESCRIPTION:Guests are invited to visit with Tillamook County Pioneer Museum staff and board members\, as well as some of the Museum’s valued community partner organizations. During this time\, visitors can get a sneak preview of upcoming exhibits and projects\, as well as learn more about the important work the Museum does to preserve and interpret Tillamook County’s cultural and natural heritage. The first Fireside Chat will take place\, Friday\, December 5 at noon. A second Fireside Chat will be hosted on Wednesday\, December 10 at 4 pm. Fireside Chats are free and open to the public.
URL:https://tillamookchamber.org/event/tillamook-county-pioneer-museum-fireside-chat/
LOCATION:Tillamook County Pioneer Museum\, 2106 Second St\, Tillamook OR 97141
CATEGORIES:Arts and Culture,Community
ATTACH;FMTTYPE=image/png:https://tillamookchamber.org/wp-content/uploads/2025/10/Fireside-Chats.png
END:VEVENT
BEGIN:VEVENT
DTSTART;TZID=America/Los_Angeles:20251129T190000
DTEND;TZID=America/Los_Angeles:20251129T210000
DTSTAMP:20260423T002506
CREATED:20250523T204532Z
LAST-MODIFIED:20250529T195335Z
UID:10021966-1764442800-1764450000@tillamookchamber.org
SUMMARY:Live Music!
DESCRIPTION:Live music every Saturday from 7–9pm in The Schooner Lounge—because your weekend deserves a soundtrack. \nKick back to the sounds of local musicians\, stay for the crave-worthy eats\, craft cocktails\, cold beers\, and our fabulous crew who always bring the good vibes. \nCurious who’s playing? Check out our lineup of Oregon-grown talent on our website!
URL:https://tillamookchamber.org/event/live-music/2025-11-29/
LOCATION:The Schooner Restaurant & Lounge\, 2065 Boat Basin Rd
CATEGORIES:Arts and Culture,Live Music
ATTACH;FMTTYPE=image/jpeg:https://tillamookchamber.org/wp-content/uploads/2025/05/Schooner-music-scaled.jpeg
END:VEVENT
BEGIN:VEVENT
DTSTART;TZID=America/Los_Angeles:20251122T190000
DTEND;TZID=America/Los_Angeles:20251122T210000
DTSTAMP:20260423T002506
CREATED:20250523T204532Z
LAST-MODIFIED:20250529T195335Z
UID:10021965-1763838000-1763845200@tillamookchamber.org
SUMMARY:Live Music!
DESCRIPTION:Live music every Saturday from 7–9pm in The Schooner Lounge—because your weekend deserves a soundtrack. \nKick back to the sounds of local musicians\, stay for the crave-worthy eats\, craft cocktails\, cold beers\, and our fabulous crew who always bring the good vibes. \nCurious who’s playing? Check out our lineup of Oregon-grown talent on our website!
URL:https://tillamookchamber.org/event/live-music/2025-11-22/
LOCATION:The Schooner Restaurant & Lounge\, 2065 Boat Basin Rd
CATEGORIES:Arts and Culture,Live Music
ATTACH;FMTTYPE=image/jpeg:https://tillamookchamber.org/wp-content/uploads/2025/05/Schooner-music-scaled.jpeg
END:VEVENT
BEGIN:VEVENT
DTSTART;TZID=America/Los_Angeles:20251115T190000
DTEND;TZID=America/Los_Angeles:20251115T210000
DTSTAMP:20260423T002506
CREATED:20250523T204532Z
LAST-MODIFIED:20250529T195335Z
UID:10021964-1763233200-1763240400@tillamookchamber.org
SUMMARY:Live Music!
DESCRIPTION:Live music every Saturday from 7–9pm in The Schooner Lounge—because your weekend deserves a soundtrack. \nKick back to the sounds of local musicians\, stay for the crave-worthy eats\, craft cocktails\, cold beers\, and our fabulous crew who always bring the good vibes. \nCurious who’s playing? Check out our lineup of Oregon-grown talent on our website!
URL:https://tillamookchamber.org/event/live-music/2025-11-15/
LOCATION:The Schooner Restaurant & Lounge\, 2065 Boat Basin Rd
CATEGORIES:Arts and Culture,Live Music
ATTACH;FMTTYPE=image/jpeg:https://tillamookchamber.org/wp-content/uploads/2025/05/Schooner-music-scaled.jpeg
END:VEVENT
BEGIN:VEVENT
DTSTART;TZID=America/Los_Angeles:20251108T190000
DTEND;TZID=America/Los_Angeles:20251108T210000
DTSTAMP:20260423T002506
CREATED:20250523T204532Z
LAST-MODIFIED:20250529T195335Z
UID:10021963-1762628400-1762635600@tillamookchamber.org
SUMMARY:Live Music!
DESCRIPTION:Live music every Saturday from 7–9pm in The Schooner Lounge—because your weekend deserves a soundtrack. \nKick back to the sounds of local musicians\, stay for the crave-worthy eats\, craft cocktails\, cold beers\, and our fabulous crew who always bring the good vibes. \nCurious who’s playing? Check out our lineup of Oregon-grown talent on our website!
URL:https://tillamookchamber.org/event/live-music/2025-11-08/
LOCATION:The Schooner Restaurant & Lounge\, 2065 Boat Basin Rd
CATEGORIES:Arts and Culture,Live Music
ATTACH;FMTTYPE=image/jpeg:https://tillamookchamber.org/wp-content/uploads/2025/05/Schooner-music-scaled.jpeg
END:VEVENT
BEGIN:VEVENT
DTSTART;TZID=America/Los_Angeles:20251101T190000
DTEND;TZID=America/Los_Angeles:20251101T210000
DTSTAMP:20260423T002506
CREATED:20250523T204532Z
LAST-MODIFIED:20250529T195335Z
UID:10021962-1762023600-1762030800@tillamookchamber.org
SUMMARY:Live Music!
DESCRIPTION:Live music every Saturday from 7–9pm in The Schooner Lounge—because your weekend deserves a soundtrack. \nKick back to the sounds of local musicians\, stay for the crave-worthy eats\, craft cocktails\, cold beers\, and our fabulous crew who always bring the good vibes. \nCurious who’s playing? Check out our lineup of Oregon-grown talent on our website!
URL:https://tillamookchamber.org/event/live-music/2025-11-01/
LOCATION:The Schooner Restaurant & Lounge\, 2065 Boat Basin Rd
CATEGORIES:Arts and Culture,Live Music
ATTACH;FMTTYPE=image/jpeg:https://tillamookchamber.org/wp-content/uploads/2025/05/Schooner-music-scaled.jpeg
END:VEVENT
BEGIN:VEVENT
DTSTART;TZID=America/Los_Angeles:20251027T150000
DTEND;TZID=America/Los_Angeles:20251027T180000
DTSTAMP:20260423T002506
CREATED:20251022T233055Z
LAST-MODIFIED:20251022T233055Z
UID:10026236-1761577200-1761588000@tillamookchamber.org
SUMMARY:Crafternoon at Heart of Cartm
DESCRIPTION:Join us at HeartWorks Studio in Downtown Wheeler for an easy-going afternoon of creative play. Bring a project you’re working on or start something new with materials from the studio. Halloween movies will be playing\, and everyone’s welcome—bring a friend or make one! Free to join; donations appreciated.
URL:https://tillamookchamber.org/event/crafternoon-at-heart-of-cartm/
LOCATION:Heart of Cartm\, 395 Nehalem Blvd\, Wheeler\, 97147
CATEGORIES:Arts and Culture,Community
ATTACH;FMTTYPE=image/jpeg:https://tillamookchamber.org/wp-content/uploads/2025/10/Creativity-Cafe.jpg
END:VEVENT
BEGIN:VEVENT
DTSTART;TZID=America/Los_Angeles:20251025T190000
DTEND;TZID=America/Los_Angeles:20251025T210000
DTSTAMP:20260423T002506
CREATED:20250523T204532Z
LAST-MODIFIED:20250529T195335Z
UID:10021961-1761418800-1761426000@tillamookchamber.org
SUMMARY:Live Music!
DESCRIPTION:Live music every Saturday from 7–9pm in The Schooner Lounge—because your weekend deserves a soundtrack. \nKick back to the sounds of local musicians\, stay for the crave-worthy eats\, craft cocktails\, cold beers\, and our fabulous crew who always bring the good vibes. \nCurious who’s playing? Check out our lineup of Oregon-grown talent on our website!
URL:https://tillamookchamber.org/event/live-music/2025-10-25/
LOCATION:The Schooner Restaurant & Lounge\, 2065 Boat Basin Rd
CATEGORIES:Arts and Culture,Live Music
ATTACH;FMTTYPE=image/jpeg:https://tillamookchamber.org/wp-content/uploads/2025/05/Schooner-music-scaled.jpeg
END:VEVENT
BEGIN:VEVENT
DTSTART;TZID=America/Los_Angeles:20251018T190000
DTEND;TZID=America/Los_Angeles:20251018T210000
DTSTAMP:20260423T002506
CREATED:20250523T204532Z
LAST-MODIFIED:20250529T195335Z
UID:10021960-1760814000-1760821200@tillamookchamber.org
SUMMARY:Live Music!
DESCRIPTION:Live music every Saturday from 7–9pm in The Schooner Lounge—because your weekend deserves a soundtrack. \nKick back to the sounds of local musicians\, stay for the crave-worthy eats\, craft cocktails\, cold beers\, and our fabulous crew who always bring the good vibes. \nCurious who’s playing? Check out our lineup of Oregon-grown talent on our website!
URL:https://tillamookchamber.org/event/live-music/2025-10-18/
LOCATION:The Schooner Restaurant & Lounge\, 2065 Boat Basin Rd
CATEGORIES:Arts and Culture,Live Music
ATTACH;FMTTYPE=image/jpeg:https://tillamookchamber.org/wp-content/uploads/2025/05/Schooner-music-scaled.jpeg
END:VEVENT
BEGIN:VEVENT
DTSTART;TZID=America/Los_Angeles:20251011T190000
DTEND;TZID=America/Los_Angeles:20251011T210000
DTSTAMP:20260423T002506
CREATED:20250523T204532Z
LAST-MODIFIED:20250529T195335Z
UID:10021959-1760209200-1760216400@tillamookchamber.org
SUMMARY:Live Music!
DESCRIPTION:Live music every Saturday from 7–9pm in The Schooner Lounge—because your weekend deserves a soundtrack. \nKick back to the sounds of local musicians\, stay for the crave-worthy eats\, craft cocktails\, cold beers\, and our fabulous crew who always bring the good vibes. \nCurious who’s playing? Check out our lineup of Oregon-grown talent on our website!
URL:https://tillamookchamber.org/event/live-music/2025-10-11/
LOCATION:The Schooner Restaurant & Lounge\, 2065 Boat Basin Rd
CATEGORIES:Arts and Culture,Live Music
ATTACH;FMTTYPE=image/jpeg:https://tillamookchamber.org/wp-content/uploads/2025/05/Schooner-music-scaled.jpeg
END:VEVENT
BEGIN:VEVENT
DTSTART;TZID=America/Los_Angeles:20251004T190000
DTEND;TZID=America/Los_Angeles:20251004T210000
DTSTAMP:20260423T002506
CREATED:20250523T204532Z
LAST-MODIFIED:20250529T195335Z
UID:10021958-1759604400-1759611600@tillamookchamber.org
SUMMARY:Live Music!
DESCRIPTION:Live music every Saturday from 7–9pm in The Schooner Lounge—because your weekend deserves a soundtrack. \nKick back to the sounds of local musicians\, stay for the crave-worthy eats\, craft cocktails\, cold beers\, and our fabulous crew who always bring the good vibes. \nCurious who’s playing? Check out our lineup of Oregon-grown talent on our website!
URL:https://tillamookchamber.org/event/live-music/2025-10-04/
LOCATION:The Schooner Restaurant & Lounge\, 2065 Boat Basin Rd
CATEGORIES:Arts and Culture,Live Music
ATTACH;FMTTYPE=image/jpeg:https://tillamookchamber.org/wp-content/uploads/2025/05/Schooner-music-scaled.jpeg
END:VEVENT
BEGIN:VEVENT
DTSTART;TZID=America/Los_Angeles:20250927T190000
DTEND;TZID=America/Los_Angeles:20250927T210000
DTSTAMP:20260423T002506
CREATED:20250523T204532Z
LAST-MODIFIED:20250529T195335Z
UID:10021957-1758999600-1759006800@tillamookchamber.org
SUMMARY:Live Music!
DESCRIPTION:Live music every Saturday from 7–9pm in The Schooner Lounge—because your weekend deserves a soundtrack. \nKick back to the sounds of local musicians\, stay for the crave-worthy eats\, craft cocktails\, cold beers\, and our fabulous crew who always bring the good vibes. \nCurious who’s playing? Check out our lineup of Oregon-grown talent on our website!
URL:https://tillamookchamber.org/event/live-music/2025-09-27/
LOCATION:The Schooner Restaurant & Lounge\, 2065 Boat Basin Rd
CATEGORIES:Arts and Culture,Live Music
ATTACH;FMTTYPE=image/jpeg:https://tillamookchamber.org/wp-content/uploads/2025/05/Schooner-music-scaled.jpeg
END:VEVENT
BEGIN:VEVENT
DTSTART;TZID=America/Los_Angeles:20250920T190000
DTEND;TZID=America/Los_Angeles:20250920T210000
DTSTAMP:20260423T002506
CREATED:20250523T204532Z
LAST-MODIFIED:20250529T195335Z
UID:10021956-1758394800-1758402000@tillamookchamber.org
SUMMARY:Live Music!
DESCRIPTION:Live music every Saturday from 7–9pm in The Schooner Lounge—because your weekend deserves a soundtrack. \nKick back to the sounds of local musicians\, stay for the crave-worthy eats\, craft cocktails\, cold beers\, and our fabulous crew who always bring the good vibes. \nCurious who’s playing? Check out our lineup of Oregon-grown talent on our website!
URL:https://tillamookchamber.org/event/live-music/2025-09-20/
LOCATION:The Schooner Restaurant & Lounge\, 2065 Boat Basin Rd
CATEGORIES:Arts and Culture,Live Music
ATTACH;FMTTYPE=image/jpeg:https://tillamookchamber.org/wp-content/uploads/2025/05/Schooner-music-scaled.jpeg
END:VEVENT
BEGIN:VEVENT
DTSTART;TZID=America/Los_Angeles:20250913T190000
DTEND;TZID=America/Los_Angeles:20250913T210000
DTSTAMP:20260423T002506
CREATED:20250523T204532Z
LAST-MODIFIED:20250529T195335Z
UID:10021955-1757790000-1757797200@tillamookchamber.org
SUMMARY:Live Music!
DESCRIPTION:Live music every Saturday from 7–9pm in The Schooner Lounge—because your weekend deserves a soundtrack. \nKick back to the sounds of local musicians\, stay for the crave-worthy eats\, craft cocktails\, cold beers\, and our fabulous crew who always bring the good vibes. \nCurious who’s playing? Check out our lineup of Oregon-grown talent on our website!
URL:https://tillamookchamber.org/event/live-music/2025-09-13/
LOCATION:The Schooner Restaurant & Lounge\, 2065 Boat Basin Rd
CATEGORIES:Arts and Culture,Live Music
ATTACH;FMTTYPE=image/jpeg:https://tillamookchamber.org/wp-content/uploads/2025/05/Schooner-music-scaled.jpeg
END:VEVENT
BEGIN:VEVENT
DTSTART;TZID=America/Los_Angeles:20250906T190000
DTEND;TZID=America/Los_Angeles:20250906T210000
DTSTAMP:20260423T002506
CREATED:20250523T204532Z
LAST-MODIFIED:20250529T195335Z
UID:10021954-1757185200-1757192400@tillamookchamber.org
SUMMARY:Live Music!
DESCRIPTION:Live music every Saturday from 7–9pm in The Schooner Lounge—because your weekend deserves a soundtrack. \nKick back to the sounds of local musicians\, stay for the crave-worthy eats\, craft cocktails\, cold beers\, and our fabulous crew who always bring the good vibes. \nCurious who’s playing? Check out our lineup of Oregon-grown talent on our website!
URL:https://tillamookchamber.org/event/live-music/2025-09-06/
LOCATION:The Schooner Restaurant & Lounge\, 2065 Boat Basin Rd
CATEGORIES:Arts and Culture,Live Music
ATTACH;FMTTYPE=image/jpeg:https://tillamookchamber.org/wp-content/uploads/2025/05/Schooner-music-scaled.jpeg
END:VEVENT
BEGIN:VEVENT
DTSTART;TZID=America/Los_Angeles:20250831T140000
DTEND;TZID=America/Los_Angeles:20250831T140000
DTSTAMP:20260423T002506
CREATED:20250826T173059Z
LAST-MODIFIED:20250826T173059Z
UID:10025279-1756648800-1756648800@tillamookchamber.org
SUMMARY:Original Practice Shakespeare Festival in the Library Park
DESCRIPTION:Join us on Saturday and Sunday at 2 pm for productions of As You Like It and Much Ado About Nothing! \n 
URL:https://tillamookchamber.org/event/original-practice-shakespeare-festival-in-the-library-park/2025-08-31/
LOCATION:Tillamook County Library\, 1716 3rd Street Tillamook Oregon 97141
CATEGORIES:Arts and Culture,Community
END:VEVENT
BEGIN:VEVENT
DTSTART;TZID=America/Los_Angeles:20250830T190000
DTEND;TZID=America/Los_Angeles:20250830T210000
DTSTAMP:20260423T002506
CREATED:20250523T204532Z
LAST-MODIFIED:20250529T195335Z
UID:10021953-1756580400-1756587600@tillamookchamber.org
SUMMARY:Live Music!
DESCRIPTION:Live music every Saturday from 7–9pm in The Schooner Lounge—because your weekend deserves a soundtrack. \nKick back to the sounds of local musicians\, stay for the crave-worthy eats\, craft cocktails\, cold beers\, and our fabulous crew who always bring the good vibes. \nCurious who’s playing? Check out our lineup of Oregon-grown talent on our website!
URL:https://tillamookchamber.org/event/live-music/2025-08-30/
LOCATION:The Schooner Restaurant & Lounge\, 2065 Boat Basin Rd
CATEGORIES:Arts and Culture,Live Music
ATTACH;FMTTYPE=image/jpeg:https://tillamookchamber.org/wp-content/uploads/2025/05/Schooner-music-scaled.jpeg
END:VEVENT
BEGIN:VEVENT
DTSTART;TZID=America/Los_Angeles:20250830T140000
DTEND;TZID=America/Los_Angeles:20250830T140000
DTSTAMP:20260423T002506
CREATED:20250826T173059Z
LAST-MODIFIED:20250826T173059Z
UID:10025278-1756562400-1756562400@tillamookchamber.org
SUMMARY:Original Practice Shakespeare Festival in the Library Park
DESCRIPTION:Join us on Saturday and Sunday at 2 pm for productions of As You Like It and Much Ado About Nothing! \n 
URL:https://tillamookchamber.org/event/original-practice-shakespeare-festival-in-the-library-park/2025-08-30/
LOCATION:Tillamook County Library\, 1716 3rd Street Tillamook Oregon 97141
CATEGORIES:Arts and Culture,Community
END:VEVENT
BEGIN:VEVENT
DTSTART;TZID=America/Los_Angeles:20250829T120000
DTEND;TZID=America/Los_Angeles:20250829T180000
DTSTAMP:20260423T002506
CREATED:20250730T231456Z
LAST-MODIFIED:20250730T231456Z
UID:10024845-1756468800-1756490400@tillamookchamber.org
SUMMARY:Coastal Reflections Opening Exhibit
DESCRIPTION:Blue Water Fine Art Gallery in Rockaway Beach Oregon invites you to experience Coastal Reflections\, our most compelling exhibit yet\, where the rhythm of the coast meets the pulse of emerging talent. Featuring 10 rising artists alongside returning favorites\, this show is a vivid fusion of fresh energy and seasoned vision!\n\nExplore seascapes that shimmer\, abstract impressions that provoke\, and mixed-media work that captures the ever-changing essence of coastal life. Whether you’re craving inspiration\, connection\, or a splash of something unexpected you’ll find it here we hope to see you here!
URL:https://tillamookchamber.org/event/coastal-reflections-opening-exhibit/
LOCATION:Blue Water Fine Art Gallery\, 119 S Miller St.\, Rockaway Beach\, OR 97136
CATEGORIES:Arts and Culture,Community
ATTACH;FMTTYPE=image/png:https://tillamookchamber.org/wp-content/uploads/2025/07/Facebook-post-pic.png
END:VEVENT
BEGIN:VEVENT
DTSTART;TZID=America/Los_Angeles:20250823T190000
DTEND;TZID=America/Los_Angeles:20250823T210000
DTSTAMP:20260423T002506
CREATED:20250523T204532Z
LAST-MODIFIED:20250529T195335Z
UID:10021952-1755975600-1755982800@tillamookchamber.org
SUMMARY:Live Music!
DESCRIPTION:Live music every Saturday from 7–9pm in The Schooner Lounge—because your weekend deserves a soundtrack. \nKick back to the sounds of local musicians\, stay for the crave-worthy eats\, craft cocktails\, cold beers\, and our fabulous crew who always bring the good vibes. \nCurious who’s playing? Check out our lineup of Oregon-grown talent on our website!
URL:https://tillamookchamber.org/event/live-music/2025-08-23/
LOCATION:The Schooner Restaurant & Lounge\, 2065 Boat Basin Rd
CATEGORIES:Arts and Culture,Live Music
ATTACH;FMTTYPE=image/jpeg:https://tillamookchamber.org/wp-content/uploads/2025/05/Schooner-music-scaled.jpeg
END:VEVENT
BEGIN:VEVENT
DTSTART;TZID=America/Los_Angeles:20250816T190000
DTEND;TZID=America/Los_Angeles:20250816T210000
DTSTAMP:20260423T002506
CREATED:20250523T204532Z
LAST-MODIFIED:20250529T195335Z
UID:10021951-1755370800-1755378000@tillamookchamber.org
SUMMARY:Live Music!
DESCRIPTION:Live music every Saturday from 7–9pm in The Schooner Lounge—because your weekend deserves a soundtrack. \nKick back to the sounds of local musicians\, stay for the crave-worthy eats\, craft cocktails\, cold beers\, and our fabulous crew who always bring the good vibes. \nCurious who’s playing? Check out our lineup of Oregon-grown talent on our website!
URL:https://tillamookchamber.org/event/live-music/2025-08-16/
LOCATION:The Schooner Restaurant & Lounge\, 2065 Boat Basin Rd
CATEGORIES:Arts and Culture,Live Music
ATTACH;FMTTYPE=image/jpeg:https://tillamookchamber.org/wp-content/uploads/2025/05/Schooner-music-scaled.jpeg
END:VEVENT
BEGIN:VEVENT
DTSTART;TZID=America/Los_Angeles:20250809T190000
DTEND;TZID=America/Los_Angeles:20250809T210000
DTSTAMP:20260423T002506
CREATED:20250523T204532Z
LAST-MODIFIED:20250529T195335Z
UID:10021950-1754766000-1754773200@tillamookchamber.org
SUMMARY:Live Music!
DESCRIPTION:Live music every Saturday from 7–9pm in The Schooner Lounge—because your weekend deserves a soundtrack. \nKick back to the sounds of local musicians\, stay for the crave-worthy eats\, craft cocktails\, cold beers\, and our fabulous crew who always bring the good vibes. \nCurious who’s playing? Check out our lineup of Oregon-grown talent on our website!
URL:https://tillamookchamber.org/event/live-music/2025-08-09/
LOCATION:The Schooner Restaurant & Lounge\, 2065 Boat Basin Rd
CATEGORIES:Arts and Culture,Live Music
ATTACH;FMTTYPE=image/jpeg:https://tillamookchamber.org/wp-content/uploads/2025/05/Schooner-music-scaled.jpeg
END:VEVENT
BEGIN:VEVENT
DTSTART;TZID=America/Los_Angeles:20250802T190000
DTEND;TZID=America/Los_Angeles:20250802T210000
DTSTAMP:20260423T002506
CREATED:20250523T204532Z
LAST-MODIFIED:20250529T195335Z
UID:10021949-1754161200-1754168400@tillamookchamber.org
SUMMARY:Live Music!
DESCRIPTION:Live music every Saturday from 7–9pm in The Schooner Lounge—because your weekend deserves a soundtrack. \nKick back to the sounds of local musicians\, stay for the crave-worthy eats\, craft cocktails\, cold beers\, and our fabulous crew who always bring the good vibes. \nCurious who’s playing? Check out our lineup of Oregon-grown talent on our website!
URL:https://tillamookchamber.org/event/live-music/2025-08-02/
LOCATION:The Schooner Restaurant & Lounge\, 2065 Boat Basin Rd
CATEGORIES:Arts and Culture,Live Music
ATTACH;FMTTYPE=image/jpeg:https://tillamookchamber.org/wp-content/uploads/2025/05/Schooner-music-scaled.jpeg
END:VEVENT
BEGIN:VEVENT
DTSTART;TZID=America/Los_Angeles:20250729T153000
DTEND;TZID=America/Los_Angeles:20250729T163000
DTSTAMP:20260423T002506
CREATED:20250626T234458Z
LAST-MODIFIED:20250626T234458Z
UID:10022681-1753803000-1753806600@tillamookchamber.org
SUMMARY:Maritime Tattoos with Columbia River Maritime Museum
DESCRIPTION:Learn about the history of American traditional maritime tattoos from CRMM educator Julia Triezenberg at the library on July 29th at 3:30 pm!
URL:https://tillamookchamber.org/event/maritime-tattoos-with-columbia-river-maritime-museum/
LOCATION:Tillamook County Library\, 1716 3rd Street Tillamook Oregon 97141
CATEGORIES:Arts and Culture,Community,Education
ATTACH;FMTTYPE=image/png:https://tillamookchamber.org/wp-content/uploads/2025/06/CRMM-Maritime-Tattoos-071525-TM.png
END:VEVENT
END:VCALENDAR