BEGIN:VCALENDAR
VERSION:2.0
PRODID:-//Tillamook Area Chamber of Commerce - ECPv6.15.20//NONSGML v1.0//EN
CALSCALE:GREGORIAN
METHOD:PUBLISH
X-ORIGINAL-URL:https://tillamookchamber.org
X-WR-CALDESC:Events for Tillamook Area Chamber of Commerce
REFRESH-INTERVAL;VALUE=DURATION:PT1H
X-Robots-Tag:noindex
X-PUBLISHED-TTL:PT1H
BEGIN:VTIMEZONE
TZID:America/Los_Angeles
BEGIN:DAYLIGHT
TZOFFSETFROM:-0800
TZOFFSETTO:-0700
TZNAME:PDT
DTSTART:20250309T100000
END:DAYLIGHT
BEGIN:STANDARD
TZOFFSETFROM:-0700
TZOFFSETTO:-0800
TZNAME:PST
DTSTART:20251102T090000
END:STANDARD
BEGIN:DAYLIGHT
TZOFFSETFROM:-0800
TZOFFSETTO:-0700
TZNAME:PDT
DTSTART:20260308T100000
END:DAYLIGHT
BEGIN:STANDARD
TZOFFSETFROM:-0700
TZOFFSETTO:-0800
TZNAME:PST
DTSTART:20261101T090000
END:STANDARD
BEGIN:DAYLIGHT
TZOFFSETFROM:-0800
TZOFFSETTO:-0700
TZNAME:PDT
DTSTART:20270314T100000
END:DAYLIGHT
BEGIN:STANDARD
TZOFFSETFROM:-0700
TZOFFSETTO:-0800
TZNAME:PST
DTSTART:20271107T090000
END:STANDARD
END:VTIMEZONE
BEGIN:VEVENT
DTSTART;TZID=America/Los_Angeles:20260307T170000
DTEND;TZID=America/Los_Angeles:20260307T190000
DTSTAMP:20260421T202256
CREATED:20260217T225903Z
LAST-MODIFIED:20260217T225903Z
UID:10029539-1772902800-1772910000@tillamookchamber.org
SUMMARY:Artist Reception "The Fisherman and his Wife" Exhibition Featuring Robert Vaughan
DESCRIPTION:Immerse yourself in an evening of creativity at Blue Water Fine Art Gallery as we highlight our March Featured Artist\, acclaimed watercolorist and local resident Robert Vaughan. His exhibition\, “The Fisherman and his Wife“\, is open from March 6 to April 5\, presenting a luminous series of watercolor pieces influenced by the refined simplicity of Abstract Asian Art. Vaughan’s work\, characterized by stylized figures\, gentle horizons\, and understated narrative moments\, offers each painting as an individual visual story. \n\n\n\n\n\n\nJoin us for the Artist Reception on Saturday\, March 7\, 2026 • 5–7 PM | Free & Open to the Public—an occasion to meet the artist\, view his work\, and enjoy an evening of art\, thoughtful conversation\, and community with light refreshments. \n\n\nStay Connected  \nFor more information—and to stay in the loop about upcoming events\, new exhibitions\, and artist features\, visit our website and sign up for our newsletter: bluewaterfineartgallery.com
URL:https://tillamookchamber.org/event/artist-reception-the-fisherman-and-his-wife-exhibition-featuring-robert-vaughan/
LOCATION:Blue Water Fine Art Gallery\, 119 S Miller St.\, Rockaway Beach\, OR 97136
CATEGORIES:Arts and Culture,Community
ATTACH;FMTTYPE=image/png:https://tillamookchamber.org/wp-content/uploads/2026/02/The-Fisherman-and-his-Wife.png
END:VEVENT
BEGIN:VEVENT
DTSTART;TZID=America/Los_Angeles:20260307T190000
DTEND;TZID=America/Los_Angeles:20260307T210000
DTSTAMP:20260421T202256
CREATED:20250523T204532Z
LAST-MODIFIED:20250529T195335Z
UID:10021980-1772910000-1772917200@tillamookchamber.org
SUMMARY:Live Music!
DESCRIPTION:Live music every Saturday from 7–9pm in The Schooner Lounge—because your weekend deserves a soundtrack. \nKick back to the sounds of local musicians\, stay for the crave-worthy eats\, craft cocktails\, cold beers\, and our fabulous crew who always bring the good vibes. \nCurious who’s playing? Check out our lineup of Oregon-grown talent on our website!
URL:https://tillamookchamber.org/event/live-music/2026-03-07/
LOCATION:The Schooner Restaurant & Lounge\, 2065 Boat Basin Rd
CATEGORIES:Arts and Culture,Live Music
ATTACH;FMTTYPE=image/jpeg:https://tillamookchamber.org/wp-content/uploads/2025/05/Schooner-music-scaled.jpeg
END:VEVENT
BEGIN:VEVENT
DTSTART;TZID=America/Los_Angeles:20260314T190000
DTEND;TZID=America/Los_Angeles:20260314T210000
DTSTAMP:20260421T202256
CREATED:20250523T204532Z
LAST-MODIFIED:20250529T195335Z
UID:10021981-1773514800-1773522000@tillamookchamber.org
SUMMARY:Live Music!
DESCRIPTION:Live music every Saturday from 7–9pm in The Schooner Lounge—because your weekend deserves a soundtrack. \nKick back to the sounds of local musicians\, stay for the crave-worthy eats\, craft cocktails\, cold beers\, and our fabulous crew who always bring the good vibes. \nCurious who’s playing? Check out our lineup of Oregon-grown talent on our website!
URL:https://tillamookchamber.org/event/live-music/2026-03-14/
LOCATION:The Schooner Restaurant & Lounge\, 2065 Boat Basin Rd
CATEGORIES:Arts and Culture,Live Music
ATTACH;FMTTYPE=image/jpeg:https://tillamookchamber.org/wp-content/uploads/2025/05/Schooner-music-scaled.jpeg
END:VEVENT
BEGIN:VEVENT
DTSTART;TZID=America/Los_Angeles:20260317T000000
DTEND;TZID=America/Los_Angeles:20260317T233000
DTSTAMP:20260421T202256
CREATED:20260317T222000Z
LAST-MODIFIED:20260317T222000Z
UID:10029622-1773705600-1773790200@tillamookchamber.org
SUMMARY:CALL FOR ART- CALLING NORTH COAST ARTISTS!
DESCRIPTION:Blue Water Fine Art Gallery is now accepting submissions for May Flowers\, our first community exhibition celebrating the colors and renewal of spring along the Oregon Coast. \nArtists may submit up to three original artworks inspired by the May Flowers theme. \nSubmission Deadline: April 21\, 2026 \nThe exhibition runs May 8 – June 6\, with a Community Reception on May 9\, 5–7 PM — free and open to all. \nSubmit your work and help us welcome spring with creativity and community. \nFull details and guidelines on website: \nBlueWaterFineArtGallery.com \nStay connected with upcoming exhibitions and artist calls — sign up for our newsletter at BlueWaterFineArtGallery.com
URL:https://tillamookchamber.org/event/call-for-art-calling-north-coast-artists/2026-03-17/
LOCATION:Blue Water Fine Art Gallery\, 119 S Miller St.\, Rockaway Beach\, OR 97136
CATEGORIES:Arts and Culture,Community
ATTACH;FMTTYPE=image/png:https://tillamookchamber.org/wp-content/uploads/2026/03/Call-FOR-ART-PURPLE.png
END:VEVENT
BEGIN:VEVENT
DTSTART;TZID=America/Los_Angeles:20260318T000000
DTEND;TZID=America/Los_Angeles:20260318T233000
DTSTAMP:20260421T202256
CREATED:20260317T222000Z
LAST-MODIFIED:20260317T222000Z
UID:10029623-1773792000-1773876600@tillamookchamber.org
SUMMARY:CALL FOR ART- CALLING NORTH COAST ARTISTS!
DESCRIPTION:Blue Water Fine Art Gallery is now accepting submissions for May Flowers\, our first community exhibition celebrating the colors and renewal of spring along the Oregon Coast. \nArtists may submit up to three original artworks inspired by the May Flowers theme. \nSubmission Deadline: April 21\, 2026 \nThe exhibition runs May 8 – June 6\, with a Community Reception on May 9\, 5–7 PM — free and open to all. \nSubmit your work and help us welcome spring with creativity and community. \nFull details and guidelines on website: \nBlueWaterFineArtGallery.com \nStay connected with upcoming exhibitions and artist calls — sign up for our newsletter at BlueWaterFineArtGallery.com
URL:https://tillamookchamber.org/event/call-for-art-calling-north-coast-artists/2026-03-18/
LOCATION:Blue Water Fine Art Gallery\, 119 S Miller St.\, Rockaway Beach\, OR 97136
CATEGORIES:Arts and Culture,Community
ATTACH;FMTTYPE=image/png:https://tillamookchamber.org/wp-content/uploads/2026/03/Call-FOR-ART-PURPLE.png
END:VEVENT
BEGIN:VEVENT
DTSTART;TZID=America/Los_Angeles:20260319T000000
DTEND;TZID=America/Los_Angeles:20260319T233000
DTSTAMP:20260421T202256
CREATED:20260317T222000Z
LAST-MODIFIED:20260317T222000Z
UID:10029624-1773878400-1773963000@tillamookchamber.org
SUMMARY:CALL FOR ART- CALLING NORTH COAST ARTISTS!
DESCRIPTION:Blue Water Fine Art Gallery is now accepting submissions for May Flowers\, our first community exhibition celebrating the colors and renewal of spring along the Oregon Coast. \nArtists may submit up to three original artworks inspired by the May Flowers theme. \nSubmission Deadline: April 21\, 2026 \nThe exhibition runs May 8 – June 6\, with a Community Reception on May 9\, 5–7 PM — free and open to all. \nSubmit your work and help us welcome spring with creativity and community. \nFull details and guidelines on website: \nBlueWaterFineArtGallery.com \nStay connected with upcoming exhibitions and artist calls — sign up for our newsletter at BlueWaterFineArtGallery.com
URL:https://tillamookchamber.org/event/call-for-art-calling-north-coast-artists/2026-03-19/
LOCATION:Blue Water Fine Art Gallery\, 119 S Miller St.\, Rockaway Beach\, OR 97136
CATEGORIES:Arts and Culture,Community
ATTACH;FMTTYPE=image/png:https://tillamookchamber.org/wp-content/uploads/2026/03/Call-FOR-ART-PURPLE.png
END:VEVENT
BEGIN:VEVENT
DTSTART;TZID=America/Los_Angeles:20260320T000000
DTEND;TZID=America/Los_Angeles:20260320T233000
DTSTAMP:20260421T202256
CREATED:20260317T222000Z
LAST-MODIFIED:20260317T222000Z
UID:10029625-1773964800-1774049400@tillamookchamber.org
SUMMARY:CALL FOR ART- CALLING NORTH COAST ARTISTS!
DESCRIPTION:Blue Water Fine Art Gallery is now accepting submissions for May Flowers\, our first community exhibition celebrating the colors and renewal of spring along the Oregon Coast. \nArtists may submit up to three original artworks inspired by the May Flowers theme. \nSubmission Deadline: April 21\, 2026 \nThe exhibition runs May 8 – June 6\, with a Community Reception on May 9\, 5–7 PM — free and open to all. \nSubmit your work and help us welcome spring with creativity and community. \nFull details and guidelines on website: \nBlueWaterFineArtGallery.com \nStay connected with upcoming exhibitions and artist calls — sign up for our newsletter at BlueWaterFineArtGallery.com
URL:https://tillamookchamber.org/event/call-for-art-calling-north-coast-artists/2026-03-20/
LOCATION:Blue Water Fine Art Gallery\, 119 S Miller St.\, Rockaway Beach\, OR 97136
CATEGORIES:Arts and Culture,Community
ATTACH;FMTTYPE=image/png:https://tillamookchamber.org/wp-content/uploads/2026/03/Call-FOR-ART-PURPLE.png
END:VEVENT
BEGIN:VEVENT
DTSTART;TZID=America/Los_Angeles:20260320T100000
DTEND;TZID=America/Los_Angeles:20260320T160000
DTSTAMP:20260421T202256
CREATED:20260317T222111Z
LAST-MODIFIED:20260317T222111Z
UID:10029620-1774000800-1774022400@tillamookchamber.org
SUMMARY:"Launching Through the Surf: The Dory Fleet of Pacific City" exhibit opens
DESCRIPTION:This traveling exhibit was created by Linfield University in partnership with the Pacific City Dorymen’s Association.\n\nLaunching Through the Surf focuses on the historical and contemporary role of doormen and dories in the life of Pacific City.\n\nOn display at the Tillamook County Pioneer Museum\, March 20 – April 30.
URL:https://tillamookchamber.org/event/launching-through-the-surf-the-dory-fleet-of-pacific-city-exhibit-opens/
LOCATION:Tillamook County Pioneer Museum\, 2106 Second St\, Tillamook OR 97141
CATEGORIES:Arts and Culture,Community
END:VEVENT
BEGIN:VEVENT
DTSTART;TZID=America/Los_Angeles:20260321T000000
DTEND;TZID=America/Los_Angeles:20260321T233000
DTSTAMP:20260421T202256
CREATED:20260317T222000Z
LAST-MODIFIED:20260317T222000Z
UID:10029626-1774051200-1774135800@tillamookchamber.org
SUMMARY:CALL FOR ART- CALLING NORTH COAST ARTISTS!
DESCRIPTION:Blue Water Fine Art Gallery is now accepting submissions for May Flowers\, our first community exhibition celebrating the colors and renewal of spring along the Oregon Coast. \nArtists may submit up to three original artworks inspired by the May Flowers theme. \nSubmission Deadline: April 21\, 2026 \nThe exhibition runs May 8 – June 6\, with a Community Reception on May 9\, 5–7 PM — free and open to all. \nSubmit your work and help us welcome spring with creativity and community. \nFull details and guidelines on website: \nBlueWaterFineArtGallery.com \nStay connected with upcoming exhibitions and artist calls — sign up for our newsletter at BlueWaterFineArtGallery.com
URL:https://tillamookchamber.org/event/call-for-art-calling-north-coast-artists/2026-03-21/
LOCATION:Blue Water Fine Art Gallery\, 119 S Miller St.\, Rockaway Beach\, OR 97136
CATEGORIES:Arts and Culture,Community
ATTACH;FMTTYPE=image/png:https://tillamookchamber.org/wp-content/uploads/2026/03/Call-FOR-ART-PURPLE.png
END:VEVENT
BEGIN:VEVENT
DTSTART;TZID=America/Los_Angeles:20260321T190000
DTEND;TZID=America/Los_Angeles:20260321T210000
DTSTAMP:20260421T202256
CREATED:20250523T204532Z
LAST-MODIFIED:20250529T195335Z
UID:10021982-1774119600-1774126800@tillamookchamber.org
SUMMARY:Live Music!
DESCRIPTION:Live music every Saturday from 7–9pm in The Schooner Lounge—because your weekend deserves a soundtrack. \nKick back to the sounds of local musicians\, stay for the crave-worthy eats\, craft cocktails\, cold beers\, and our fabulous crew who always bring the good vibes. \nCurious who’s playing? Check out our lineup of Oregon-grown talent on our website!
URL:https://tillamookchamber.org/event/live-music/2026-03-21/
LOCATION:The Schooner Restaurant & Lounge\, 2065 Boat Basin Rd
CATEGORIES:Arts and Culture,Live Music
ATTACH;FMTTYPE=image/jpeg:https://tillamookchamber.org/wp-content/uploads/2025/05/Schooner-music-scaled.jpeg
END:VEVENT
BEGIN:VEVENT
DTSTART;TZID=America/Los_Angeles:20260322T000000
DTEND;TZID=America/Los_Angeles:20260322T233000
DTSTAMP:20260421T202256
CREATED:20260317T222000Z
LAST-MODIFIED:20260317T222000Z
UID:10029627-1774137600-1774222200@tillamookchamber.org
SUMMARY:CALL FOR ART- CALLING NORTH COAST ARTISTS!
DESCRIPTION:Blue Water Fine Art Gallery is now accepting submissions for May Flowers\, our first community exhibition celebrating the colors and renewal of spring along the Oregon Coast. \nArtists may submit up to three original artworks inspired by the May Flowers theme. \nSubmission Deadline: April 21\, 2026 \nThe exhibition runs May 8 – June 6\, with a Community Reception on May 9\, 5–7 PM — free and open to all. \nSubmit your work and help us welcome spring with creativity and community. \nFull details and guidelines on website: \nBlueWaterFineArtGallery.com \nStay connected with upcoming exhibitions and artist calls — sign up for our newsletter at BlueWaterFineArtGallery.com
URL:https://tillamookchamber.org/event/call-for-art-calling-north-coast-artists/2026-03-22/
LOCATION:Blue Water Fine Art Gallery\, 119 S Miller St.\, Rockaway Beach\, OR 97136
CATEGORIES:Arts and Culture,Community
ATTACH;FMTTYPE=image/png:https://tillamookchamber.org/wp-content/uploads/2026/03/Call-FOR-ART-PURPLE.png
END:VEVENT
BEGIN:VEVENT
DTSTART;TZID=America/Los_Angeles:20260322T130000
DTEND;TZID=America/Los_Angeles:20260322T153000
DTSTAMP:20260421T202256
CREATED:20260216T185326Z
LAST-MODIFIED:20260216T185326Z
UID:10029535-1774184400-1774193400@tillamookchamber.org
SUMMARY:Paint and Sip
DESCRIPTION:Join us at The Winery at Manzanita\nEnjoy a fun boutique paint class instructed by an Oregonian local artist who is invested in student success and wellbeing. All skill levels are welcome. Step-by-step instruction\, and all materials provided – plus a $10 credit towards your purchase at the winery!
URL:https://tillamookchamber.org/event/paint-and-sip/
LOCATION:The Winery at Manzanita\, 253 Laneda Avenue
CATEGORIES:Arts and Culture,Community,Family Fun
ATTACH;FMTTYPE=image/jpeg:https://tillamookchamber.org/wp-content/uploads/2026/02/Haystack.jpg
END:VEVENT
BEGIN:VEVENT
DTSTART;TZID=America/Los_Angeles:20260323T000000
DTEND;TZID=America/Los_Angeles:20260323T233000
DTSTAMP:20260421T202256
CREATED:20260317T222000Z
LAST-MODIFIED:20260317T222000Z
UID:10029628-1774224000-1774308600@tillamookchamber.org
SUMMARY:CALL FOR ART- CALLING NORTH COAST ARTISTS!
DESCRIPTION:Blue Water Fine Art Gallery is now accepting submissions for May Flowers\, our first community exhibition celebrating the colors and renewal of spring along the Oregon Coast. \nArtists may submit up to three original artworks inspired by the May Flowers theme. \nSubmission Deadline: April 21\, 2026 \nThe exhibition runs May 8 – June 6\, with a Community Reception on May 9\, 5–7 PM — free and open to all. \nSubmit your work and help us welcome spring with creativity and community. \nFull details and guidelines on website: \nBlueWaterFineArtGallery.com \nStay connected with upcoming exhibitions and artist calls — sign up for our newsletter at BlueWaterFineArtGallery.com
URL:https://tillamookchamber.org/event/call-for-art-calling-north-coast-artists/2026-03-23/
LOCATION:Blue Water Fine Art Gallery\, 119 S Miller St.\, Rockaway Beach\, OR 97136
CATEGORIES:Arts and Culture,Community
ATTACH;FMTTYPE=image/png:https://tillamookchamber.org/wp-content/uploads/2026/03/Call-FOR-ART-PURPLE.png
END:VEVENT
BEGIN:VEVENT
DTSTART;TZID=America/Los_Angeles:20260324T000000
DTEND;TZID=America/Los_Angeles:20260324T233000
DTSTAMP:20260421T202256
CREATED:20260317T222000Z
LAST-MODIFIED:20260317T222000Z
UID:10029629-1774310400-1774395000@tillamookchamber.org
SUMMARY:CALL FOR ART- CALLING NORTH COAST ARTISTS!
DESCRIPTION:Blue Water Fine Art Gallery is now accepting submissions for May Flowers\, our first community exhibition celebrating the colors and renewal of spring along the Oregon Coast. \nArtists may submit up to three original artworks inspired by the May Flowers theme. \nSubmission Deadline: April 21\, 2026 \nThe exhibition runs May 8 – June 6\, with a Community Reception on May 9\, 5–7 PM — free and open to all. \nSubmit your work and help us welcome spring with creativity and community. \nFull details and guidelines on website: \nBlueWaterFineArtGallery.com \nStay connected with upcoming exhibitions and artist calls — sign up for our newsletter at BlueWaterFineArtGallery.com
URL:https://tillamookchamber.org/event/call-for-art-calling-north-coast-artists/2026-03-24/
LOCATION:Blue Water Fine Art Gallery\, 119 S Miller St.\, Rockaway Beach\, OR 97136
CATEGORIES:Arts and Culture,Community
ATTACH;FMTTYPE=image/png:https://tillamookchamber.org/wp-content/uploads/2026/03/Call-FOR-ART-PURPLE.png
END:VEVENT
BEGIN:VEVENT
DTSTART;TZID=America/Los_Angeles:20260325T000000
DTEND;TZID=America/Los_Angeles:20260325T233000
DTSTAMP:20260421T202256
CREATED:20260317T222000Z
LAST-MODIFIED:20260317T222000Z
UID:10029630-1774396800-1774481400@tillamookchamber.org
SUMMARY:CALL FOR ART- CALLING NORTH COAST ARTISTS!
DESCRIPTION:Blue Water Fine Art Gallery is now accepting submissions for May Flowers\, our first community exhibition celebrating the colors and renewal of spring along the Oregon Coast. \nArtists may submit up to three original artworks inspired by the May Flowers theme. \nSubmission Deadline: April 21\, 2026 \nThe exhibition runs May 8 – June 6\, with a Community Reception on May 9\, 5–7 PM — free and open to all. \nSubmit your work and help us welcome spring with creativity and community. \nFull details and guidelines on website: \nBlueWaterFineArtGallery.com \nStay connected with upcoming exhibitions and artist calls — sign up for our newsletter at BlueWaterFineArtGallery.com
URL:https://tillamookchamber.org/event/call-for-art-calling-north-coast-artists/2026-03-25/
LOCATION:Blue Water Fine Art Gallery\, 119 S Miller St.\, Rockaway Beach\, OR 97136
CATEGORIES:Arts and Culture,Community
ATTACH;FMTTYPE=image/png:https://tillamookchamber.org/wp-content/uploads/2026/03/Call-FOR-ART-PURPLE.png
END:VEVENT
BEGIN:VEVENT
DTSTART;TZID=America/Los_Angeles:20260326T000000
DTEND;TZID=America/Los_Angeles:20260326T233000
DTSTAMP:20260421T202256
CREATED:20260317T222000Z
LAST-MODIFIED:20260317T222000Z
UID:10029631-1774483200-1774567800@tillamookchamber.org
SUMMARY:CALL FOR ART- CALLING NORTH COAST ARTISTS!
DESCRIPTION:Blue Water Fine Art Gallery is now accepting submissions for May Flowers\, our first community exhibition celebrating the colors and renewal of spring along the Oregon Coast. \nArtists may submit up to three original artworks inspired by the May Flowers theme. \nSubmission Deadline: April 21\, 2026 \nThe exhibition runs May 8 – June 6\, with a Community Reception on May 9\, 5–7 PM — free and open to all. \nSubmit your work and help us welcome spring with creativity and community. \nFull details and guidelines on website: \nBlueWaterFineArtGallery.com \nStay connected with upcoming exhibitions and artist calls — sign up for our newsletter at BlueWaterFineArtGallery.com
URL:https://tillamookchamber.org/event/call-for-art-calling-north-coast-artists/2026-03-26/
LOCATION:Blue Water Fine Art Gallery\, 119 S Miller St.\, Rockaway Beach\, OR 97136
CATEGORIES:Arts and Culture,Community
ATTACH;FMTTYPE=image/png:https://tillamookchamber.org/wp-content/uploads/2026/03/Call-FOR-ART-PURPLE.png
END:VEVENT
BEGIN:VEVENT
DTSTART;TZID=America/Los_Angeles:20260327T000000
DTEND;TZID=America/Los_Angeles:20260327T233000
DTSTAMP:20260421T202256
CREATED:20260317T222000Z
LAST-MODIFIED:20260317T222000Z
UID:10029632-1774569600-1774654200@tillamookchamber.org
SUMMARY:CALL FOR ART- CALLING NORTH COAST ARTISTS!
DESCRIPTION:Blue Water Fine Art Gallery is now accepting submissions for May Flowers\, our first community exhibition celebrating the colors and renewal of spring along the Oregon Coast. \nArtists may submit up to three original artworks inspired by the May Flowers theme. \nSubmission Deadline: April 21\, 2026 \nThe exhibition runs May 8 – June 6\, with a Community Reception on May 9\, 5–7 PM — free and open to all. \nSubmit your work and help us welcome spring with creativity and community. \nFull details and guidelines on website: \nBlueWaterFineArtGallery.com \nStay connected with upcoming exhibitions and artist calls — sign up for our newsletter at BlueWaterFineArtGallery.com
URL:https://tillamookchamber.org/event/call-for-art-calling-north-coast-artists/2026-03-27/
LOCATION:Blue Water Fine Art Gallery\, 119 S Miller St.\, Rockaway Beach\, OR 97136
CATEGORIES:Arts and Culture,Community
ATTACH;FMTTYPE=image/png:https://tillamookchamber.org/wp-content/uploads/2026/03/Call-FOR-ART-PURPLE.png
END:VEVENT
BEGIN:VEVENT
DTSTART;TZID=America/Los_Angeles:20260328T000000
DTEND;TZID=America/Los_Angeles:20260328T233000
DTSTAMP:20260421T202256
CREATED:20260317T222000Z
LAST-MODIFIED:20260317T222000Z
UID:10029633-1774656000-1774740600@tillamookchamber.org
SUMMARY:CALL FOR ART- CALLING NORTH COAST ARTISTS!
DESCRIPTION:Blue Water Fine Art Gallery is now accepting submissions for May Flowers\, our first community exhibition celebrating the colors and renewal of spring along the Oregon Coast. \nArtists may submit up to three original artworks inspired by the May Flowers theme. \nSubmission Deadline: April 21\, 2026 \nThe exhibition runs May 8 – June 6\, with a Community Reception on May 9\, 5–7 PM — free and open to all. \nSubmit your work and help us welcome spring with creativity and community. \nFull details and guidelines on website: \nBlueWaterFineArtGallery.com \nStay connected with upcoming exhibitions and artist calls — sign up for our newsletter at BlueWaterFineArtGallery.com
URL:https://tillamookchamber.org/event/call-for-art-calling-north-coast-artists/2026-03-28/
LOCATION:Blue Water Fine Art Gallery\, 119 S Miller St.\, Rockaway Beach\, OR 97136
CATEGORIES:Arts and Culture,Community
ATTACH;FMTTYPE=image/png:https://tillamookchamber.org/wp-content/uploads/2026/03/Call-FOR-ART-PURPLE.png
END:VEVENT
BEGIN:VEVENT
DTSTART;TZID=America/Los_Angeles:20260328T190000
DTEND;TZID=America/Los_Angeles:20260328T210000
DTSTAMP:20260421T202256
CREATED:20250523T204532Z
LAST-MODIFIED:20250529T195335Z
UID:10021983-1774724400-1774731600@tillamookchamber.org
SUMMARY:Live Music!
DESCRIPTION:Live music every Saturday from 7–9pm in The Schooner Lounge—because your weekend deserves a soundtrack. \nKick back to the sounds of local musicians\, stay for the crave-worthy eats\, craft cocktails\, cold beers\, and our fabulous crew who always bring the good vibes. \nCurious who’s playing? Check out our lineup of Oregon-grown talent on our website!
URL:https://tillamookchamber.org/event/live-music/2026-03-28/
LOCATION:The Schooner Restaurant & Lounge\, 2065 Boat Basin Rd
CATEGORIES:Arts and Culture,Live Music
ATTACH;FMTTYPE=image/jpeg:https://tillamookchamber.org/wp-content/uploads/2025/05/Schooner-music-scaled.jpeg
END:VEVENT
BEGIN:VEVENT
DTSTART;TZID=America/Los_Angeles:20260329T000000
DTEND;TZID=America/Los_Angeles:20260329T233000
DTSTAMP:20260421T202256
CREATED:20260317T222000Z
LAST-MODIFIED:20260317T222000Z
UID:10029634-1774742400-1774827000@tillamookchamber.org
SUMMARY:CALL FOR ART- CALLING NORTH COAST ARTISTS!
DESCRIPTION:Blue Water Fine Art Gallery is now accepting submissions for May Flowers\, our first community exhibition celebrating the colors and renewal of spring along the Oregon Coast. \nArtists may submit up to three original artworks inspired by the May Flowers theme. \nSubmission Deadline: April 21\, 2026 \nThe exhibition runs May 8 – June 6\, with a Community Reception on May 9\, 5–7 PM — free and open to all. \nSubmit your work and help us welcome spring with creativity and community. \nFull details and guidelines on website: \nBlueWaterFineArtGallery.com \nStay connected with upcoming exhibitions and artist calls — sign up for our newsletter at BlueWaterFineArtGallery.com
URL:https://tillamookchamber.org/event/call-for-art-calling-north-coast-artists/2026-03-29/
LOCATION:Blue Water Fine Art Gallery\, 119 S Miller St.\, Rockaway Beach\, OR 97136
CATEGORIES:Arts and Culture,Community
ATTACH;FMTTYPE=image/png:https://tillamookchamber.org/wp-content/uploads/2026/03/Call-FOR-ART-PURPLE.png
END:VEVENT
BEGIN:VEVENT
DTSTART;TZID=America/Los_Angeles:20260330T000000
DTEND;TZID=America/Los_Angeles:20260330T233000
DTSTAMP:20260421T202256
CREATED:20260317T222000Z
LAST-MODIFIED:20260317T222000Z
UID:10029635-1774828800-1774913400@tillamookchamber.org
SUMMARY:CALL FOR ART- CALLING NORTH COAST ARTISTS!
DESCRIPTION:Blue Water Fine Art Gallery is now accepting submissions for May Flowers\, our first community exhibition celebrating the colors and renewal of spring along the Oregon Coast. \nArtists may submit up to three original artworks inspired by the May Flowers theme. \nSubmission Deadline: April 21\, 2026 \nThe exhibition runs May 8 – June 6\, with a Community Reception on May 9\, 5–7 PM — free and open to all. \nSubmit your work and help us welcome spring with creativity and community. \nFull details and guidelines on website: \nBlueWaterFineArtGallery.com \nStay connected with upcoming exhibitions and artist calls — sign up for our newsletter at BlueWaterFineArtGallery.com
URL:https://tillamookchamber.org/event/call-for-art-calling-north-coast-artists/2026-03-30/
LOCATION:Blue Water Fine Art Gallery\, 119 S Miller St.\, Rockaway Beach\, OR 97136
CATEGORIES:Arts and Culture,Community
ATTACH;FMTTYPE=image/png:https://tillamookchamber.org/wp-content/uploads/2026/03/Call-FOR-ART-PURPLE.png
END:VEVENT
BEGIN:VEVENT
DTSTART;TZID=America/Los_Angeles:20260331T000000
DTEND;TZID=America/Los_Angeles:20260331T233000
DTSTAMP:20260421T202256
CREATED:20260317T222000Z
LAST-MODIFIED:20260317T222000Z
UID:10029636-1774915200-1774999800@tillamookchamber.org
SUMMARY:CALL FOR ART- CALLING NORTH COAST ARTISTS!
DESCRIPTION:Blue Water Fine Art Gallery is now accepting submissions for May Flowers\, our first community exhibition celebrating the colors and renewal of spring along the Oregon Coast. \nArtists may submit up to three original artworks inspired by the May Flowers theme. \nSubmission Deadline: April 21\, 2026 \nThe exhibition runs May 8 – June 6\, with a Community Reception on May 9\, 5–7 PM — free and open to all. \nSubmit your work and help us welcome spring with creativity and community. \nFull details and guidelines on website: \nBlueWaterFineArtGallery.com \nStay connected with upcoming exhibitions and artist calls — sign up for our newsletter at BlueWaterFineArtGallery.com
URL:https://tillamookchamber.org/event/call-for-art-calling-north-coast-artists/2026-03-31/
LOCATION:Blue Water Fine Art Gallery\, 119 S Miller St.\, Rockaway Beach\, OR 97136
CATEGORIES:Arts and Culture,Community
ATTACH;FMTTYPE=image/png:https://tillamookchamber.org/wp-content/uploads/2026/03/Call-FOR-ART-PURPLE.png
END:VEVENT
END:VCALENDAR