BEGIN:VCALENDAR
VERSION:2.0
PRODID:-//Tillamook Area Chamber of Commerce - ECPv6.15.20//NONSGML v1.0//EN
CALSCALE:GREGORIAN
METHOD:PUBLISH
X-WR-CALNAME:Tillamook Area Chamber of Commerce
X-ORIGINAL-URL:https://tillamookchamber.org
X-WR-CALDESC:Events for Tillamook Area Chamber of Commerce
REFRESH-INTERVAL;VALUE=DURATION:PT1H
X-Robots-Tag:noindex
X-PUBLISHED-TTL:PT1H
BEGIN:VTIMEZONE
TZID:America/Los_Angeles
BEGIN:DAYLIGHT
TZOFFSETFROM:-0800
TZOFFSETTO:-0700
TZNAME:PDT
DTSTART:20240310T100000
END:DAYLIGHT
BEGIN:STANDARD
TZOFFSETFROM:-0700
TZOFFSETTO:-0800
TZNAME:PST
DTSTART:20241103T090000
END:STANDARD
BEGIN:DAYLIGHT
TZOFFSETFROM:-0800
TZOFFSETTO:-0700
TZNAME:PDT
DTSTART:20250309T100000
END:DAYLIGHT
BEGIN:STANDARD
TZOFFSETFROM:-0700
TZOFFSETTO:-0800
TZNAME:PST
DTSTART:20251102T090000
END:STANDARD
BEGIN:DAYLIGHT
TZOFFSETFROM:-0800
TZOFFSETTO:-0700
TZNAME:PDT
DTSTART:20260308T100000
END:DAYLIGHT
BEGIN:STANDARD
TZOFFSETFROM:-0700
TZOFFSETTO:-0800
TZNAME:PST
DTSTART:20261101T090000
END:STANDARD
END:VTIMEZONE
BEGIN:VEVENT
DTSTART;TZID=America/Los_Angeles:20250502T190000
DTEND;TZID=America/Los_Angeles:20250502T210000
DTSTAMP:20260423T035350
CREATED:20250506T145828Z
LAST-MODIFIED:20250506T145828Z
UID:10021280-1746212400-1746219600@tillamookchamber.org
SUMMARY:Over the River and Through the Woods
DESCRIPTION:Over the Rivers and Through the Woods is a warm-hearted\, boisterously funny\, and touching story about intergenerational relationships\, deep familial love\, and the inevitable little heartbreaks\, brought to you by TAPA and Grocery Outlet of Tillamook.\n\nOver the River and Through the Woods runs May 2nd – 18th. Friday and Saturday shows start at 7:00 pm\, Sunday shows start at 2:00 pm. Tickets available online here!\n\nNick is a single\, Italian-American guy from New Jersey. His parents retired and moved to Florida\, but that doesn’t mean his family isn’t still in Jersey. In fact\, he sees both sets of his grandparents every Sunday for dinner. This is the routine until he has to tell them he’s been offered his dream job as a marketing executive\, that will take him to another state. He tells them…and the news doesn’t sit so well. Thus begins a series of schemes to keep Nick around. How could he betray his family’s love to move to Seattle\, for a job\, wonder his grandparents? Well\, Frank\, Aida\, Nunzio and Emma do their level best\, and that includes bringing to dinner the lovely—and single—Caitlin O’Hare as bait…but we won’t give the ending away here.\n\nJoin TAPA for Gala Night on May 2nd to celebrate the show’s opening! Each ticket includes a complimentary beverage of your choice and a delicious spread of hors d’oeuvres.
URL:https://tillamookchamber.org/event/over-the-river-and-through-the-woods/2025-05-02/
LOCATION:TAPA\, 1204 Ivy Ave\, Tillamook\, OR\, 97141\, United States
CATEGORIES:Arts and Culture,Community
ATTACH;FMTTYPE=image/jpeg:https://tillamookchamber.org/wp-content/uploads/2025/05/Over-the-River-Poster-a.jpg
END:VEVENT
BEGIN:VEVENT
DTSTART;TZID=America/Los_Angeles:20250503T170000
DTEND;TZID=America/Los_Angeles:20250503T200000
DTSTAMP:20260423T035350
CREATED:20250415T161358Z
LAST-MODIFIED:20250415T161358Z
UID:10020338-1746291600-1746302400@tillamookchamber.org
SUMMARY:Books After Hours @ Cloud & Leaf Bookstore
DESCRIPTION:Books After Hours is Cloud & Leaf’s Saturday pop-up event series. 5-8pm\, join us for wine and snacks\, casual browsing\, new favorite authors. \nSaturday\, 5/3\, it’s Bookstore Scavenger Hunt Bingo! (How is it both a scavenger hunt AND bingo? Show up and find out!) \nSaturday\, 5/10: Book signing with Oregon’s previous Poet Laureate\, Anis Mojgani! \nSaturday\, 5/31: Reading & signing with Jessica Poundstone\, author MUSEUM OF DOGS\, the dog-lover’s guide to art history.
URL:https://tillamookchamber.org/event/books-after-hours-cloud-leaf-bookstore-2/2025-05-03/
LOCATION:Cloud & Leaf Bookstore\, 447 Laneda Avenue\, Manzanita\, 97130
CATEGORIES:Arts and Culture,Community
ATTACH;FMTTYPE=image/png:https://tillamookchamber.org/wp-content/uploads/2025/04/Good-Morning-Bookstore.png
END:VEVENT
BEGIN:VEVENT
DTSTART;TZID=America/Los_Angeles:20250503T190000
DTEND;TZID=America/Los_Angeles:20250503T210000
DTSTAMP:20260423T035350
CREATED:20250506T145828Z
LAST-MODIFIED:20250506T145828Z
UID:10021281-1746298800-1746306000@tillamookchamber.org
SUMMARY:Over the River and Through the Woods
DESCRIPTION:Over the Rivers and Through the Woods is a warm-hearted\, boisterously funny\, and touching story about intergenerational relationships\, deep familial love\, and the inevitable little heartbreaks\, brought to you by TAPA and Grocery Outlet of Tillamook.\n\nOver the River and Through the Woods runs May 2nd – 18th. Friday and Saturday shows start at 7:00 pm\, Sunday shows start at 2:00 pm. Tickets available online here!\n\nNick is a single\, Italian-American guy from New Jersey. His parents retired and moved to Florida\, but that doesn’t mean his family isn’t still in Jersey. In fact\, he sees both sets of his grandparents every Sunday for dinner. This is the routine until he has to tell them he’s been offered his dream job as a marketing executive\, that will take him to another state. He tells them…and the news doesn’t sit so well. Thus begins a series of schemes to keep Nick around. How could he betray his family’s love to move to Seattle\, for a job\, wonder his grandparents? Well\, Frank\, Aida\, Nunzio and Emma do their level best\, and that includes bringing to dinner the lovely—and single—Caitlin O’Hare as bait…but we won’t give the ending away here.\n\nJoin TAPA for Gala Night on May 2nd to celebrate the show’s opening! Each ticket includes a complimentary beverage of your choice and a delicious spread of hors d’oeuvres.
URL:https://tillamookchamber.org/event/over-the-river-and-through-the-woods/2025-05-03/
LOCATION:TAPA\, 1204 Ivy Ave\, Tillamook\, OR\, 97141\, United States
CATEGORIES:Arts and Culture,Community
ATTACH;FMTTYPE=image/jpeg:https://tillamookchamber.org/wp-content/uploads/2025/05/Over-the-River-Poster-a.jpg
END:VEVENT
BEGIN:VEVENT
DTSTART;TZID=America/Los_Angeles:20250504T140000
DTEND;TZID=America/Los_Angeles:20250504T160000
DTSTAMP:20260423T035350
CREATED:20250506T145828Z
LAST-MODIFIED:20250506T145828Z
UID:10021282-1746367200-1746374400@tillamookchamber.org
SUMMARY:Over the River and Through the Woods
DESCRIPTION:Over the Rivers and Through the Woods is a warm-hearted\, boisterously funny\, and touching story about intergenerational relationships\, deep familial love\, and the inevitable little heartbreaks\, brought to you by TAPA and Grocery Outlet of Tillamook.\n\nOver the River and Through the Woods runs May 2nd – 18th. Friday and Saturday shows start at 7:00 pm\, Sunday shows start at 2:00 pm. Tickets available online here!\n\nNick is a single\, Italian-American guy from New Jersey. His parents retired and moved to Florida\, but that doesn’t mean his family isn’t still in Jersey. In fact\, he sees both sets of his grandparents every Sunday for dinner. This is the routine until he has to tell them he’s been offered his dream job as a marketing executive\, that will take him to another state. He tells them…and the news doesn’t sit so well. Thus begins a series of schemes to keep Nick around. How could he betray his family’s love to move to Seattle\, for a job\, wonder his grandparents? Well\, Frank\, Aida\, Nunzio and Emma do their level best\, and that includes bringing to dinner the lovely—and single—Caitlin O’Hare as bait…but we won’t give the ending away here.\n\nJoin TAPA for Gala Night on May 2nd to celebrate the show’s opening! Each ticket includes a complimentary beverage of your choice and a delicious spread of hors d’oeuvres.
URL:https://tillamookchamber.org/event/over-the-river-and-through-the-woods/2025-05-04/
LOCATION:TAPA\, 1204 Ivy Ave\, Tillamook\, OR\, 97141\, United States
CATEGORIES:Arts and Culture,Community
ATTACH;FMTTYPE=image/jpeg:https://tillamookchamber.org/wp-content/uploads/2025/05/Over-the-River-Poster-a.jpg
END:VEVENT
BEGIN:VEVENT
DTSTART;TZID=America/Los_Angeles:20250509T190000
DTEND;TZID=America/Los_Angeles:20250509T210000
DTSTAMP:20260423T035350
CREATED:20250506T145828Z
LAST-MODIFIED:20250506T145828Z
UID:10021283-1746817200-1746824400@tillamookchamber.org
SUMMARY:Over the River and Through the Woods
DESCRIPTION:Over the Rivers and Through the Woods is a warm-hearted\, boisterously funny\, and touching story about intergenerational relationships\, deep familial love\, and the inevitable little heartbreaks\, brought to you by TAPA and Grocery Outlet of Tillamook.\n\nOver the River and Through the Woods runs May 2nd – 18th. Friday and Saturday shows start at 7:00 pm\, Sunday shows start at 2:00 pm. Tickets available online here!\n\nNick is a single\, Italian-American guy from New Jersey. His parents retired and moved to Florida\, but that doesn’t mean his family isn’t still in Jersey. In fact\, he sees both sets of his grandparents every Sunday for dinner. This is the routine until he has to tell them he’s been offered his dream job as a marketing executive\, that will take him to another state. He tells them…and the news doesn’t sit so well. Thus begins a series of schemes to keep Nick around. How could he betray his family’s love to move to Seattle\, for a job\, wonder his grandparents? Well\, Frank\, Aida\, Nunzio and Emma do their level best\, and that includes bringing to dinner the lovely—and single—Caitlin O’Hare as bait…but we won’t give the ending away here.\n\nJoin TAPA for Gala Night on May 2nd to celebrate the show’s opening! Each ticket includes a complimentary beverage of your choice and a delicious spread of hors d’oeuvres.
URL:https://tillamookchamber.org/event/over-the-river-and-through-the-woods/2025-05-09/
LOCATION:TAPA\, 1204 Ivy Ave\, Tillamook\, OR\, 97141\, United States
CATEGORIES:Arts and Culture,Community
ATTACH;FMTTYPE=image/jpeg:https://tillamookchamber.org/wp-content/uploads/2025/05/Over-the-River-Poster-a.jpg
END:VEVENT
BEGIN:VEVENT
DTSTART;TZID=America/Los_Angeles:20250510T080000
DTEND;TZID=America/Los_Angeles:20250510T170000
DTSTAMP:20260423T035350
CREATED:20250415T161358Z
LAST-MODIFIED:20250415T161358Z
UID:10020336-1746864000-1746896400@tillamookchamber.org
SUMMARY:Books After Hours @ Cloud & Leaf Bookstore
DESCRIPTION:Books After Hours is Cloud & Leaf’s Saturday pop-up event series. 5-8pm\, join us for wine and snacks\, casual browsing\, new favorite authors. \nSaturday\, 5/3\, it’s Bookstore Scavenger Hunt Bingo! (How is it both a scavenger hunt AND bingo? Show up and find out!) \nSaturday\, 5/10: Book signing with Oregon’s previous Poet Laureate\, Anis Mojgani! \nSaturday\, 5/31: Reading & signing with Jessica Poundstone\, author MUSEUM OF DOGS\, the dog-lover’s guide to art history.
URL:https://tillamookchamber.org/event/books-after-hours-cloud-leaf-bookstore-2/2025-05-10/
LOCATION:Cloud & Leaf Bookstore\, 447 Laneda Avenue\, Manzanita\, 97130
CATEGORIES:Arts and Culture,Community
ATTACH;FMTTYPE=image/png:https://tillamookchamber.org/wp-content/uploads/2025/04/Good-Morning-Bookstore.png
END:VEVENT
BEGIN:VEVENT
DTSTART;TZID=America/Los_Angeles:20250510T190000
DTEND;TZID=America/Los_Angeles:20250510T210000
DTSTAMP:20260423T035350
CREATED:20250506T145828Z
LAST-MODIFIED:20250506T145828Z
UID:10021284-1746903600-1746910800@tillamookchamber.org
SUMMARY:Over the River and Through the Woods
DESCRIPTION:Over the Rivers and Through the Woods is a warm-hearted\, boisterously funny\, and touching story about intergenerational relationships\, deep familial love\, and the inevitable little heartbreaks\, brought to you by TAPA and Grocery Outlet of Tillamook.\n\nOver the River and Through the Woods runs May 2nd – 18th. Friday and Saturday shows start at 7:00 pm\, Sunday shows start at 2:00 pm. Tickets available online here!\n\nNick is a single\, Italian-American guy from New Jersey. His parents retired and moved to Florida\, but that doesn’t mean his family isn’t still in Jersey. In fact\, he sees both sets of his grandparents every Sunday for dinner. This is the routine until he has to tell them he’s been offered his dream job as a marketing executive\, that will take him to another state. He tells them…and the news doesn’t sit so well. Thus begins a series of schemes to keep Nick around. How could he betray his family’s love to move to Seattle\, for a job\, wonder his grandparents? Well\, Frank\, Aida\, Nunzio and Emma do their level best\, and that includes bringing to dinner the lovely—and single—Caitlin O’Hare as bait…but we won’t give the ending away here.\n\nJoin TAPA for Gala Night on May 2nd to celebrate the show’s opening! Each ticket includes a complimentary beverage of your choice and a delicious spread of hors d’oeuvres.
URL:https://tillamookchamber.org/event/over-the-river-and-through-the-woods/2025-05-10/
LOCATION:TAPA\, 1204 Ivy Ave\, Tillamook\, OR\, 97141\, United States
CATEGORIES:Arts and Culture,Community
ATTACH;FMTTYPE=image/jpeg:https://tillamookchamber.org/wp-content/uploads/2025/05/Over-the-River-Poster-a.jpg
END:VEVENT
BEGIN:VEVENT
DTSTART;TZID=America/Los_Angeles:20250511T140000
DTEND;TZID=America/Los_Angeles:20250511T160000
DTSTAMP:20260423T035350
CREATED:20250506T145828Z
LAST-MODIFIED:20250506T145828Z
UID:10021285-1746972000-1746979200@tillamookchamber.org
SUMMARY:Over the River and Through the Woods
DESCRIPTION:Over the Rivers and Through the Woods is a warm-hearted\, boisterously funny\, and touching story about intergenerational relationships\, deep familial love\, and the inevitable little heartbreaks\, brought to you by TAPA and Grocery Outlet of Tillamook.\n\nOver the River and Through the Woods runs May 2nd – 18th. Friday and Saturday shows start at 7:00 pm\, Sunday shows start at 2:00 pm. Tickets available online here!\n\nNick is a single\, Italian-American guy from New Jersey. His parents retired and moved to Florida\, but that doesn’t mean his family isn’t still in Jersey. In fact\, he sees both sets of his grandparents every Sunday for dinner. This is the routine until he has to tell them he’s been offered his dream job as a marketing executive\, that will take him to another state. He tells them…and the news doesn’t sit so well. Thus begins a series of schemes to keep Nick around. How could he betray his family’s love to move to Seattle\, for a job\, wonder his grandparents? Well\, Frank\, Aida\, Nunzio and Emma do their level best\, and that includes bringing to dinner the lovely—and single—Caitlin O’Hare as bait…but we won’t give the ending away here.\n\nJoin TAPA for Gala Night on May 2nd to celebrate the show’s opening! Each ticket includes a complimentary beverage of your choice and a delicious spread of hors d’oeuvres.
URL:https://tillamookchamber.org/event/over-the-river-and-through-the-woods/2025-05-11/
LOCATION:TAPA\, 1204 Ivy Ave\, Tillamook\, OR\, 97141\, United States
CATEGORIES:Arts and Culture,Community
ATTACH;FMTTYPE=image/jpeg:https://tillamookchamber.org/wp-content/uploads/2025/05/Over-the-River-Poster-a.jpg
END:VEVENT
BEGIN:VEVENT
DTSTART;TZID=America/Los_Angeles:20250516T190000
DTEND;TZID=America/Los_Angeles:20250516T210000
DTSTAMP:20260423T035350
CREATED:20250506T145828Z
LAST-MODIFIED:20250506T145828Z
UID:10021286-1747422000-1747429200@tillamookchamber.org
SUMMARY:Over the River and Through the Woods
DESCRIPTION:Over the Rivers and Through the Woods is a warm-hearted\, boisterously funny\, and touching story about intergenerational relationships\, deep familial love\, and the inevitable little heartbreaks\, brought to you by TAPA and Grocery Outlet of Tillamook.\n\nOver the River and Through the Woods runs May 2nd – 18th. Friday and Saturday shows start at 7:00 pm\, Sunday shows start at 2:00 pm. Tickets available online here!\n\nNick is a single\, Italian-American guy from New Jersey. His parents retired and moved to Florida\, but that doesn’t mean his family isn’t still in Jersey. In fact\, he sees both sets of his grandparents every Sunday for dinner. This is the routine until he has to tell them he’s been offered his dream job as a marketing executive\, that will take him to another state. He tells them…and the news doesn’t sit so well. Thus begins a series of schemes to keep Nick around. How could he betray his family’s love to move to Seattle\, for a job\, wonder his grandparents? Well\, Frank\, Aida\, Nunzio and Emma do their level best\, and that includes bringing to dinner the lovely—and single—Caitlin O’Hare as bait…but we won’t give the ending away here.\n\nJoin TAPA for Gala Night on May 2nd to celebrate the show’s opening! Each ticket includes a complimentary beverage of your choice and a delicious spread of hors d’oeuvres.
URL:https://tillamookchamber.org/event/over-the-river-and-through-the-woods/2025-05-16/
LOCATION:TAPA\, 1204 Ivy Ave\, Tillamook\, OR\, 97141\, United States
CATEGORIES:Arts and Culture,Community
ATTACH;FMTTYPE=image/jpeg:https://tillamookchamber.org/wp-content/uploads/2025/05/Over-the-River-Poster-a.jpg
END:VEVENT
BEGIN:VEVENT
DTSTART;TZID=America/Los_Angeles:20250517T190000
DTEND;TZID=America/Los_Angeles:20250517T210000
DTSTAMP:20260423T035350
CREATED:20250506T145828Z
LAST-MODIFIED:20250506T145828Z
UID:10021287-1747508400-1747515600@tillamookchamber.org
SUMMARY:Over the River and Through the Woods
DESCRIPTION:Over the Rivers and Through the Woods is a warm-hearted\, boisterously funny\, and touching story about intergenerational relationships\, deep familial love\, and the inevitable little heartbreaks\, brought to you by TAPA and Grocery Outlet of Tillamook.\n\nOver the River and Through the Woods runs May 2nd – 18th. Friday and Saturday shows start at 7:00 pm\, Sunday shows start at 2:00 pm. Tickets available online here!\n\nNick is a single\, Italian-American guy from New Jersey. His parents retired and moved to Florida\, but that doesn’t mean his family isn’t still in Jersey. In fact\, he sees both sets of his grandparents every Sunday for dinner. This is the routine until he has to tell them he’s been offered his dream job as a marketing executive\, that will take him to another state. He tells them…and the news doesn’t sit so well. Thus begins a series of schemes to keep Nick around. How could he betray his family’s love to move to Seattle\, for a job\, wonder his grandparents? Well\, Frank\, Aida\, Nunzio and Emma do their level best\, and that includes bringing to dinner the lovely—and single—Caitlin O’Hare as bait…but we won’t give the ending away here.\n\nJoin TAPA for Gala Night on May 2nd to celebrate the show’s opening! Each ticket includes a complimentary beverage of your choice and a delicious spread of hors d’oeuvres.
URL:https://tillamookchamber.org/event/over-the-river-and-through-the-woods/2025-05-17/
LOCATION:TAPA\, 1204 Ivy Ave\, Tillamook\, OR\, 97141\, United States
CATEGORIES:Arts and Culture,Community
ATTACH;FMTTYPE=image/jpeg:https://tillamookchamber.org/wp-content/uploads/2025/05/Over-the-River-Poster-a.jpg
END:VEVENT
BEGIN:VEVENT
DTSTART;TZID=America/Los_Angeles:20250518T140000
DTEND;TZID=America/Los_Angeles:20250518T160000
DTSTAMP:20260423T035350
CREATED:20250506T145828Z
LAST-MODIFIED:20250506T145828Z
UID:10021288-1747576800-1747584000@tillamookchamber.org
SUMMARY:Over the River and Through the Woods
DESCRIPTION:Over the Rivers and Through the Woods is a warm-hearted\, boisterously funny\, and touching story about intergenerational relationships\, deep familial love\, and the inevitable little heartbreaks\, brought to you by TAPA and Grocery Outlet of Tillamook.\n\nOver the River and Through the Woods runs May 2nd – 18th. Friday and Saturday shows start at 7:00 pm\, Sunday shows start at 2:00 pm. Tickets available online here!\n\nNick is a single\, Italian-American guy from New Jersey. His parents retired and moved to Florida\, but that doesn’t mean his family isn’t still in Jersey. In fact\, he sees both sets of his grandparents every Sunday for dinner. This is the routine until he has to tell them he’s been offered his dream job as a marketing executive\, that will take him to another state. He tells them…and the news doesn’t sit so well. Thus begins a series of schemes to keep Nick around. How could he betray his family’s love to move to Seattle\, for a job\, wonder his grandparents? Well\, Frank\, Aida\, Nunzio and Emma do their level best\, and that includes bringing to dinner the lovely—and single—Caitlin O’Hare as bait…but we won’t give the ending away here.\n\nJoin TAPA for Gala Night on May 2nd to celebrate the show’s opening! Each ticket includes a complimentary beverage of your choice and a delicious spread of hors d’oeuvres.
URL:https://tillamookchamber.org/event/over-the-river-and-through-the-woods/2025-05-18/
LOCATION:TAPA\, 1204 Ivy Ave\, Tillamook\, OR\, 97141\, United States
CATEGORIES:Arts and Culture,Community
ATTACH;FMTTYPE=image/jpeg:https://tillamookchamber.org/wp-content/uploads/2025/05/Over-the-River-Poster-a.jpg
END:VEVENT
BEGIN:VEVENT
DTSTART;TZID=America/Los_Angeles:20250520T180000
DTEND;TZID=America/Los_Angeles:20250520T193000
DTSTAMP:20260423T035350
CREATED:20250407T232358Z
LAST-MODIFIED:20250407T232358Z
UID:10020326-1747764000-1747769400@tillamookchamber.org
SUMMARY:US Poet Laureate Ada Limón
DESCRIPTION:Tuesday\, May 20\, 2025 \nDoors open at 5:30pm \nReading at 6:00pm\, followed by a book signing \nNestucca K-8 school\, Cloverdale\, Oregon \nSitka is bringing US Poet Laureate ADA LIMÓN to the Oregon Coast. Join us for an intimate evening of poetry and inspiration with one of the most celebrated poets of our time. Hear Ada Limón read from her acclaimed works and share insights on the power of language and the natural world. This in-person event will take place at Nestucca K8 in Cloverdale\, Oregon. Get ready for an unforgettable experience. \nAda Limón is the author of six books of poetry\, including The Carrying\, which won the National Book Critics Circle Award. Her book Bright Dead Things was nominated for the National Book Award\, the National Book Critics Circle Award\, and the Kingsley Tufts Poetry Award. Her most recent book of poetry\, The Hurting Kind\, was shortlisted for the Griffin Poetry Prize. She is also the author of two children’s books: In Praise of Mystery\, with illustrations by Peter Sís; and And\, Too\, The Fox\, released in 2025. In October of 2023 she was awarded a MacArthur “Genius” Fellowship\, and she was named a TIME magazine woman of the year in 2024. She is the recipient of a Guggenheim fellowship and wrote a poem that was engraved on NASA’s Europa Clipper Spacecraft that was launched to the second moon of Jupiter in October 2024. As the 24th Poet Laureate of The United States\, her signature project is called You Are Here and focuses on how poetry can help connect us to the natural world. She will serve as Poet Laureate until the spring of 2025.
URL:https://tillamookchamber.org/event/us-poet-laureate-ada-limon/
LOCATION:Nestucca K8\, 36925 U.S. 101 S Cloverdale\, Oregon
CATEGORIES:Arts and Culture,Community
END:VEVENT
BEGIN:VEVENT
DTSTART;TZID=America/Los_Angeles:20250521T140000
DTEND;TZID=America/Los_Angeles:20250521T160000
DTSTAMP:20260423T035350
CREATED:20250404T175633Z
LAST-MODIFIED:20250404T175633Z
UID:10020318-1747836000-1747843200@tillamookchamber.org
SUMMARY:Craft Supply Swap at Tillamook Library
DESCRIPTION:Bring your unused or abandoned craft supplies in and find them a new home! Or come pick up some new craft supplies from the swap pile!
URL:https://tillamookchamber.org/event/craft-supply-swap-at-tillamook-library/
LOCATION:Tillamook County Library\, 1716 3rd Street Tillamook Oregon 97141
CATEGORIES:Arts and Culture,Community
END:VEVENT
BEGIN:VEVENT
DTSTART;TZID=America/Los_Angeles:20250524T190000
DTEND;TZID=America/Los_Angeles:20250524T210000
DTSTAMP:20260423T035350
CREATED:20250523T204532Z
LAST-MODIFIED:20250529T195335Z
UID:10021512-1748113200-1748120400@tillamookchamber.org
SUMMARY:Live Music!
DESCRIPTION:Live music every Saturday from 7–9pm in The Schooner Lounge—because your weekend deserves a soundtrack. \nKick back to the sounds of local musicians\, stay for the crave-worthy eats\, craft cocktails\, cold beers\, and our fabulous crew who always bring the good vibes. \nCurious who’s playing? Check out our lineup of Oregon-grown talent on our website!
URL:https://tillamookchamber.org/event/live-music/2025-05-24/
LOCATION:The Schooner Restaurant & Lounge\, 2065 Boat Basin Rd
CATEGORIES:Arts and Culture,Live Music
ATTACH;FMTTYPE=image/jpeg:https://tillamookchamber.org/wp-content/uploads/2025/05/Schooner-music-scaled.jpeg
END:VEVENT
BEGIN:VEVENT
DTSTART;TZID=America/Los_Angeles:20250530T190000
DTEND;TZID=America/Los_Angeles:20250530T210000
DTSTAMP:20260423T035350
CREATED:20250506T150006Z
LAST-MODIFIED:20250506T150006Z
UID:10021300-1748631600-1748638800@tillamookchamber.org
SUMMARY:'SORDID LIVES' ON STAGE AT THE NCRD PERFORMING ARTS CENTER
DESCRIPTION:SORDID LIVES\nDirected by Frank Squillo \nSordid Lives by Del Shores is a dark comedy about a quirky Texas family thrown into chaos after the scandalous death of their matriarch. \nLong-buried secrets and eccentric personalities collide as the family gathers for her funeral\, resulting in hilarious and heartfelt moments.  \nWith a Tammy Wynette-obsessed drag queen\, an ex-con\, a closeted actor\, a crazy therapist\, and plenty of other colorful characters\, the play explores themes of acceptance\, forgiveness\, and love amidst the family’s hilarity and dysfunction. \nRATED MATURE AUDIENCES ONLY: ‘Sordid Lives’ is intended for mature audiences. The play contains comedic depictions of sensitive topics\, including infidelity\, mental health\, LGBTQ+ issues\, strong language\, sexual content and innuendos\, and situations not suitable for children or some younger audiences. Audience discretion is advised.
URL:https://tillamookchamber.org/event/sordid-lives-on-stage-at-the-ncrd-performing-arts-center/2025-05-30/
LOCATION:North County Recreation District\, 36155 9th St\, Nehalem\, OR\, 97131\, United States
CATEGORIES:Arts and Culture,Community
END:VEVENT
BEGIN:VEVENT
DTSTART;TZID=America/Los_Angeles:20250531T080000
DTEND;TZID=America/Los_Angeles:20250531T170000
DTSTAMP:20260423T035350
CREATED:20250415T161358Z
LAST-MODIFIED:20250415T161358Z
UID:10020337-1748678400-1748710800@tillamookchamber.org
SUMMARY:Books After Hours @ Cloud & Leaf Bookstore
DESCRIPTION:Books After Hours is Cloud & Leaf’s Saturday pop-up event series. 5-8pm\, join us for wine and snacks\, casual browsing\, new favorite authors. \nSaturday\, 5/3\, it’s Bookstore Scavenger Hunt Bingo! (How is it both a scavenger hunt AND bingo? Show up and find out!) \nSaturday\, 5/10: Book signing with Oregon’s previous Poet Laureate\, Anis Mojgani! \nSaturday\, 5/31: Reading & signing with Jessica Poundstone\, author MUSEUM OF DOGS\, the dog-lover’s guide to art history.
URL:https://tillamookchamber.org/event/books-after-hours-cloud-leaf-bookstore-2/2025-05-31/
LOCATION:Cloud & Leaf Bookstore\, 447 Laneda Avenue\, Manzanita\, 97130
CATEGORIES:Arts and Culture,Community
ATTACH;FMTTYPE=image/png:https://tillamookchamber.org/wp-content/uploads/2025/04/Good-Morning-Bookstore.png
END:VEVENT
BEGIN:VEVENT
DTSTART;TZID=America/Los_Angeles:20250531T190000
DTEND;TZID=America/Los_Angeles:20250531T210000
DTSTAMP:20260423T035350
CREATED:20250506T150006Z
LAST-MODIFIED:20250506T150006Z
UID:10021301-1748718000-1748725200@tillamookchamber.org
SUMMARY:'SORDID LIVES' ON STAGE AT THE NCRD PERFORMING ARTS CENTER
DESCRIPTION:SORDID LIVES\nDirected by Frank Squillo \nSordid Lives by Del Shores is a dark comedy about a quirky Texas family thrown into chaos after the scandalous death of their matriarch. \nLong-buried secrets and eccentric personalities collide as the family gathers for her funeral\, resulting in hilarious and heartfelt moments.  \nWith a Tammy Wynette-obsessed drag queen\, an ex-con\, a closeted actor\, a crazy therapist\, and plenty of other colorful characters\, the play explores themes of acceptance\, forgiveness\, and love amidst the family’s hilarity and dysfunction. \nRATED MATURE AUDIENCES ONLY: ‘Sordid Lives’ is intended for mature audiences. The play contains comedic depictions of sensitive topics\, including infidelity\, mental health\, LGBTQ+ issues\, strong language\, sexual content and innuendos\, and situations not suitable for children or some younger audiences. Audience discretion is advised.
URL:https://tillamookchamber.org/event/sordid-lives-on-stage-at-the-ncrd-performing-arts-center/2025-05-31/
LOCATION:North County Recreation District\, 36155 9th St\, Nehalem\, OR\, 97131\, United States
CATEGORIES:Arts and Culture,Community
END:VEVENT
BEGIN:VEVENT
DTSTART;TZID=America/Los_Angeles:20250531T190000
DTEND;TZID=America/Los_Angeles:20250531T210000
DTSTAMP:20260423T035350
CREATED:20250523T204532Z
LAST-MODIFIED:20250529T195335Z
UID:10021940-1748718000-1748725200@tillamookchamber.org
SUMMARY:Live Music!
DESCRIPTION:Live music every Saturday from 7–9pm in The Schooner Lounge—because your weekend deserves a soundtrack. \nKick back to the sounds of local musicians\, stay for the crave-worthy eats\, craft cocktails\, cold beers\, and our fabulous crew who always bring the good vibes. \nCurious who’s playing? Check out our lineup of Oregon-grown talent on our website!
URL:https://tillamookchamber.org/event/live-music/2025-05-31/
LOCATION:The Schooner Restaurant & Lounge\, 2065 Boat Basin Rd
CATEGORIES:Arts and Culture,Live Music
ATTACH;FMTTYPE=image/jpeg:https://tillamookchamber.org/wp-content/uploads/2025/05/Schooner-music-scaled.jpeg
END:VEVENT
END:VCALENDAR