BEGIN:VCALENDAR
VERSION:2.0
PRODID:-//Tillamook Area Chamber of Commerce - ECPv6.15.20//NONSGML v1.0//EN
CALSCALE:GREGORIAN
METHOD:PUBLISH
X-ORIGINAL-URL:https://tillamookchamber.org
X-WR-CALDESC:Events for Tillamook Area Chamber of Commerce
REFRESH-INTERVAL;VALUE=DURATION:PT1H
X-Robots-Tag:noindex
X-PUBLISHED-TTL:PT1H
BEGIN:VTIMEZONE
TZID:America/Los_Angeles
BEGIN:DAYLIGHT
TZOFFSETFROM:-0800
TZOFFSETTO:-0700
TZNAME:PDT
DTSTART:20240310T100000
END:DAYLIGHT
BEGIN:STANDARD
TZOFFSETFROM:-0700
TZOFFSETTO:-0800
TZNAME:PST
DTSTART:20241103T090000
END:STANDARD
BEGIN:DAYLIGHT
TZOFFSETFROM:-0800
TZOFFSETTO:-0700
TZNAME:PDT
DTSTART:20250309T100000
END:DAYLIGHT
BEGIN:STANDARD
TZOFFSETFROM:-0700
TZOFFSETTO:-0800
TZNAME:PST
DTSTART:20251102T090000
END:STANDARD
BEGIN:DAYLIGHT
TZOFFSETFROM:-0800
TZOFFSETTO:-0700
TZNAME:PDT
DTSTART:20260308T100000
END:DAYLIGHT
BEGIN:STANDARD
TZOFFSETFROM:-0700
TZOFFSETTO:-0800
TZNAME:PST
DTSTART:20261101T090000
END:STANDARD
END:VTIMEZONE
BEGIN:VEVENT
DTSTART;TZID=America/Los_Angeles:20250105T120000
DTEND;TZID=America/Los_Angeles:20250105T160000
DTSTAMP:20260423T105324
CREATED:20241226T210121Z
LAST-MODIFIED:20241226T210121Z
UID:10017445-1736078400-1736092800@tillamookchamber.org
SUMMARY:Open House: Latimer Challenge
DESCRIPTION:This is a member challenge show. The theme is “fruit salad” and any medium can be used. Weaving\, Quilting\, spinning\, tatting\, etc. Maximum size of 18″ x 24″ (wall hanging). We are excited to see/showcase the creativity our wonderful Members.
URL:https://tillamookchamber.org/event/open-house-latimer-challenge/
LOCATION:Latimer Quilt & Textile Center\, 2105 Wilson River Loop Road\, OR\, United States
CATEGORIES:Arts and Culture,Community
END:VEVENT
BEGIN:VEVENT
DTSTART;TZID=America/Los_Angeles:20250118T140000
DTEND;TZID=America/Los_Angeles:20250118T170000
DTSTAMP:20260423T105324
CREATED:20241209T181029Z
LAST-MODIFIED:20241209T181029Z
UID:10017126-1737208800-1737219600@tillamookchamber.org
SUMMARY:Maker Saturday at Bay City Library
DESCRIPTION:Join us at the Bay City Branch Library on the 3rd Saturday of the month at 2:00pm and 5:00pm for Maker Saturday! Bring a project you have been working on or come and be inspired by the supplies we have. \nDo you have a new model or a LEGO kit you’ve been meaning to work on? Is there a painting or craft you’ve been wanting to start and/or finish? Are you looking for a place to get away for a while to work on your project? \nWe can help! Please note\, supplies are limited.
URL:https://tillamookchamber.org/event/maker-saturday-at-bay-city-library-2/2025-01-18/
LOCATION:Bay City Library\, 5525 B St\, Bay City\, OR
CATEGORIES:Arts and Culture,Community
ATTACH;FMTTYPE=image/png:https://tillamookchamber.org/wp-content/uploads/2024/12/makersat.png
END:VEVENT
BEGIN:VEVENT
DTSTART;TZID=America/Los_Angeles:20250130T100000
DTEND;TZID=America/Los_Angeles:20250130T200000
DTSTAMP:20260423T105324
CREATED:20250113T232046Z
LAST-MODIFIED:20250113T232046Z
UID:10017754-1738231200-1738267200@tillamookchamber.org
SUMMARY:Art for the Heart: Art Intake Days
DESCRIPTION:Share art that speaks to your heart!Adventist Health Tillamook invites artists and creatives of all ages along the Oregon Coast to submit up to five pieces of art for the annual Art for the Heart exhibition February 2–28. Art will be accepted at NCRD by Adventist Health staff two days: January 30\, 10 a.m. to 8 p.m. and January 31\, 10 a.m. to 3 p.m.\n\nSubmission guidelinesThere are no fees for submissions\, and all mediums are welcome. All artwork must be display-ready and clearly labeled with creative title\, artist name and sale price\, if applicable.\n\nDigital work must be printed and wall-ready.\nFramed art must be wall-ready.\nFree-standing art is also welcome but must be accompanied by a stand or holder to secure it.\n\nAwards: Cash prizes for first place $500\, second $250 and third $175\, a People’s Choice Award and a youth award for high school-aged artists and younger.\n\nFor more information\, visit AdventistHealthTillamook.org/ArtForTheHeart or email McLainAL@ah.org.\nPictured: Some of the artwork from the 2024 Art for the Heart exhibition.
URL:https://tillamookchamber.org/event/art-for-the-heart-art-intake-days/2025-01-30/
LOCATION:North County Recreation Distrist (NCRD)\, 36155 9th St.\, Nehalem\, OR 97131
CATEGORIES:Arts and Culture,Community
ATTACH;FMTTYPE=image/jpeg:https://tillamookchamber.org/wp-content/uploads/2025/01/FB_call-to-artist-event-graphic_1920x1005.jpg
END:VEVENT
BEGIN:VEVENT
DTSTART;TZID=America/Los_Angeles:20250131T100000
DTEND;TZID=America/Los_Angeles:20250131T150000
DTSTAMP:20260423T105324
CREATED:20250113T232046Z
LAST-MODIFIED:20250113T232046Z
UID:10017755-1738317600-1738335600@tillamookchamber.org
SUMMARY:Art for the Heart: Art Intake Days
DESCRIPTION:Share art that speaks to your heart!Adventist Health Tillamook invites artists and creatives of all ages along the Oregon Coast to submit up to five pieces of art for the annual Art for the Heart exhibition February 2–28. Art will be accepted at NCRD by Adventist Health staff two days: January 30\, 10 a.m. to 8 p.m. and January 31\, 10 a.m. to 3 p.m.\n\nSubmission guidelinesThere are no fees for submissions\, and all mediums are welcome. All artwork must be display-ready and clearly labeled with creative title\, artist name and sale price\, if applicable.\n\nDigital work must be printed and wall-ready.\nFramed art must be wall-ready.\nFree-standing art is also welcome but must be accompanied by a stand or holder to secure it.\n\nAwards: Cash prizes for first place $500\, second $250 and third $175\, a People’s Choice Award and a youth award for high school-aged artists and younger.\n\nFor more information\, visit AdventistHealthTillamook.org/ArtForTheHeart or email McLainAL@ah.org.\nPictured: Some of the artwork from the 2024 Art for the Heart exhibition.
URL:https://tillamookchamber.org/event/art-for-the-heart-art-intake-days/2025-01-31/
LOCATION:North County Recreation Distrist (NCRD)\, 36155 9th St.\, Nehalem\, OR 97131
CATEGORIES:Arts and Culture,Community
ATTACH;FMTTYPE=image/jpeg:https://tillamookchamber.org/wp-content/uploads/2025/01/FB_call-to-artist-event-graphic_1920x1005.jpg
END:VEVENT
END:VCALENDAR